BEGIN:VCALENDAR
VERSION:2.0
PRODID:-//Talks.cam//talks.cam.ac.uk//
X-WR-CALNAME:Talks.cam
BEGIN:VEVENT
SUMMARY:Can disharmonic word-order patterns be explained diachronically? -
  Dr Glenda Newton (Linguistics)
DTSTART:20081029T170000Z
DTEND:20081029T183000Z
UID:TALK14204@talks.cam.ac.uk
CONTACT:Dr Theresa Biberauer
DESCRIPTION:Abstract not available
LOCATION:G-R04\, English Faculty
END:VEVENT
END:VCALENDAR
