BEGIN:VCALENDAR
VERSION:2.0
PRODID:-//Talks.cam//talks.cam.ac.uk//
X-WR-CALNAME:Talks.cam
BEGIN:VEVENT
SUMMARY:Patterns of stem and progenitor cell fate in adult tissues - Profe
 ssor Ben Simons\, Department of Physics\, University of Cambridge\, Cambri
 dge UK
DTSTART:20081217T120000Z
DTEND:20081217T123000Z
UID:TALK14238@talks.cam.ac.uk
CONTACT:Duncan Simpson
DESCRIPTION:	
LOCATION:Pippard Lecture Theatre\, Cavendish Laboratory\, Department of Ph
 ysics
END:VEVENT
END:VCALENDAR
