BEGIN:VCALENDAR
VERSION:2.0
PRODID:-//Talks.cam//talks.cam.ac.uk//
X-WR-CALNAME:Talks.cam
BEGIN:VEVENT
SUMMARY:Title to be confirmed - Speaker to be confirmed
DTSTART:20200520T100000Z
DTEND:20200520T110000Z
UID:TALK142621@talks.cam.ac.uk
CONTACT:93079
DESCRIPTION:https://mp3net.net/\nhttps://mp3nets.com/\nhttps://mp3via.com/
 \nhttps://capemp3.com/
LOCATION:Venue to be confirmed
END:VEVENT
END:VCALENDAR
