BEGIN:VCALENDAR
VERSION:2.0
PRODID:-//Talks.cam//talks.cam.ac.uk//
X-WR-CALNAME:Talks.cam
BEGIN:VEVENT
SUMMARY:Attraction explained: The science of how we form relationships - P
 rof Viren Swami\, ARU
DTSTART:20200612T130000Z
DTEND:20200612T140000Z
UID:TALK142684@talks.cam.ac.uk
CONTACT:Miriam Berg
DESCRIPTION:Can science explain how we form relationships? Prof Viren Swam
 i\, ARU\, looks at how factors such as geography\, appearance\, personalit
 y\, and similarity affect who we fall for and why.
LOCATION:Anglia Ruskin University\, East Road\, Cambridge CB1 1PT
END:VEVENT
END:VCALENDAR
