BEGIN:VCALENDAR
VERSION:2.0
PRODID:-//Talks.cam//talks.cam.ac.uk//
X-WR-CALNAME:Talks.cam
BEGIN:VEVENT
SUMMARY:Solving the high level nuclear waste problem - Lou Vance (ANSTO\, 
 Australia)
DTSTART:20081104T163000Z
DTEND:20081104T173000Z
UID:TALK14281@talks.cam.ac.uk
CONTACT:Francis Rowland
DESCRIPTION:TBA
LOCATION:Tilley Lecture Theatre\, Department of Earth Sciences
END:VEVENT
END:VCALENDAR
