BEGIN:VCALENDAR
VERSION:2.0
PRODID:-//Talks.cam//talks.cam.ac.uk//
X-WR-CALNAME:Talks.cam
BEGIN:VEVENT
SUMMARY:Acams CAMS PDF Dumps Association of Certified Anti Money Launderyi
 ng Test- CertsWay - Speaker to be confirmed
DTSTART:20200602T100000Z
DTEND:20200602T110000Z
UID:TALK144091@talks.cam.ac.uk
CONTACT:Amber bolton - deleted
DESCRIPTION:Acams CAMS Exam Dumps | CAMS PDF Dumps | CAMS PDF Questions| C
 AMS BrainDumps | CAMS Practice Test | Association of Certified Anti Money 
 Launderying Questions with Verified Answers | Association of Certified Ant
 i Money Launderying Test Software | CAMS Practice Questions\n\n*100% Passi
 ng Guarantee with CertsWay up to date CAMS pdf dumps:*\n\nAre you looking 
 for the best results in the Association of Certified Anti Money Launderyin
 g exam in the very first attempt? Don't worry CertsWay has a solution for 
 all your Acams CAMS test problems. Yes\, now you don't need to become a bo
 ok worm. And in fact\, long term studies also don't provide you what Certs
 Way can! Yes\, CertsWay has the best and valid Acams "CAMS pdf dumps":http
 s://certsway.com/CAMS-dumps-pdf/ for your CAMS exam. We offer you 100% com
 ing CAMS questions for your 100% success in Association of Certified Anti 
 Money Launderying exam with CertsWay money back and 100% success guarantee
 . We have solutions for all those candidates who cant give proper time to 
 studies or doing part-time jobs or in short\, can deliver focus on better 
 grades. We have best and valid CAMS pdf dumps to get success in CAMS test 
 without any risk as CertsWay has never learned to compromise on their valu
 able student\,s carrier. 100% in Association of Certified Anti Money Laund
 erying test with valid CAMS pdf dumps has the best results from the last 1
 5+ years and our students appreciated our valid CAMS pdf dumps for best re
 sults.\n\n*Why to chose CertsWay For success in CAMS pdf dumps:*\n\nCertsW
 ay has the best and valid CAMS pdf dumps for 100% success in Association o
 f Certified Anti Money Launderying exam with CertsWay guarantee. Yes\, we 
 don't task you to study hard or to do efforts for a long time but offering
  you the coming CAMS pdf dumps. Yes\, our qualified professionals only pro
 vide you those CAMS pdf that has real coming CAMS questions that make your
  success guaranteed. We have the best and valid CAMS pdf dumps. We are ser
 ving Association of Certified Anti Money Launderying students from up to 1
 5+ years and have 100% results in the CAMS test. Moreover\, we have qualif
 ied instructors who are serving you with 24/7 free customer support and ho
 urly updates for your CAMS pdf dumps so you never miss a single CAMS quest
 ion with CertsWay close CAMS exam questions.\n\n*CertsWay Free demo:*\n\nG
 et your free demo now which is close to our original "Acams CAMS pdf dumps
 ":https://certsway.com/CAMS-dumps-pdf/ so you can choose best for your Aca
 ms CAMS test. We have the best coming CAMS pdf dumps for you that give you
  a 100% passing guarantee or to achieve best in CAMS test.\n\n*CertsWay Mo
 ney Back Guarantee:*\n\nWe are fully satisfied with our best CAMS pdf dump
 s and recent results were also appreciating. We are not here to build empi
 res but to serve Association of Certified Anti Money Launderying students 
 with best and valid coming CAMS pdf dumps. We don't compromise on our valu
 able student's carrier. We are giving you 100% success guarantee in the CA
 MS pdf dumps. If you don't get success in a very first attempt. You can ge
 t all your money back. Yes\, CertsWay gives you a 100% Money back guarante
 e. So why to chose another when CertsWay has all you need for CAMS pdf dum
 ps.\n\nAcams CAMS Exam Dumps | CAMS PDF Dumps | CAMS PDF Questions| CAMS B
 rainDumps | CAMS Practice Test | Association of Certified Anti Money Laund
 erying Questions with Verified Answers | Association of Certified Anti Mon
 ey Launderying Test Software | CAMS Practice Questions
LOCATION:Venue to be confirmed
END:VEVENT
END:VCALENDAR
