BEGIN:VCALENDAR
VERSION:2.0
PRODID:-//Talks.cam//talks.cam.ac.uk//
X-WR-CALNAME:Talks.cam
BEGIN:VEVENT
SUMMARY:How to Pass The Storage Solutions Architect HPE2-K43 PDF Dumps - S
 peaker to be confirmed
DTSTART:20200602T100000Z
DTEND:20200602T110000Z
UID:TALK144106@talks.cam.ac.uk
CONTACT:Amber bolton - deleted
DESCRIPTION:HP HPE2-K43 Exam Dumps | HPE2-K43 PDF Dumps | HPE2-K43 PDF Que
 stions| HPE2-K43 BrainDumps | HPE2-K43 Practice Test | Storage Solutions A
 rchitect Questions with Verified Answers | Designing High-End HPE Storage 
 Platforms Test Software | HPE2-K43 Practice Questions\n\n*100% Passing Gua
 rantee with CertsWay up to date HPE2-K43 pdf dumps:*\n\nAre you looking fo
 r the best results in the Storage Solutions Architect exam in the very fir
 st attempt? Don't worry CertsWay has a solution for all your HP HPE2-K43 t
 est problems. Yes\, now you don't need to become a book worm. And in fact\
 , long term studies also don't provide you what CertsWay can! Yes\, CertsW
 ay has the best and valid HP "HPE2-K43 pdf dumps":https://certsway.com/HPE
 2-K43-dumps-pdf/ for your HPE2-K43 exam. We offer you 100% coming HPE2-K43
  questions for your 100% success in Storage Solutions Architect exam with 
 CertsWay money back and 100% success guarantee. We have solutions for all 
 those candidates who cant give proper time to studies or doing part-time j
 obs or in short\, can deliver focus on better grades. We have best and val
 id HPE2-K43 pdf dumps to get success in HPE2-K43 test without any risk as 
 CertsWay has never learned to compromise on their valuable student\,s carr
 ier. 100% in Storage Solutions Architect test with valid HPE2-K43 pdf dump
 s has the best results from the last 15+ years and our students appreciate
 d our valid HPE2-K43 pdf dumps for best results.\n\n*Why to chose CertsWay
  For success in HPE2-K43 pdf dumps:*\n\nCertsWay has the best and valid HP
 E2-K43 pdf dumps for 100% success in Storage Solutions Architect exam with
  CertsWay guarantee. Yes\, we don't task you to study hard or to do effort
 s for a long time but offering you the coming HPE2-K43 pdf dumps. Yes\, ou
 r qualified professionals only provide you those HPE2-K43 pdf that has rea
 l coming HPE2-K43 questions that make your success guaranteed. We have the
  best and valid HPE2-K43 pdf dumps. We are serving Storage Solutions Archi
 tect students from up to 15+ years and have 100% results in the HPE2-K43 t
 est. Moreover\, we have qualified instructors who are serving you with 24/
 7 free customer support and hourly updates for your HPE2-K43 pdf dumps so 
 you never miss a single HPE2-K43 question with CertsWay close HPE2-K43 exa
 m questions.\n\n*CertsWay Free demo:*\n\nGet your free demo now which is c
 lose to our original "HP HPE2-K43 pdf dumps":https://certsway.com/HPE2-K43
 -dumps-pdf/ so you can choose best for your HP HPE2-K43 test. We have the 
 best coming HPE2-K43 pdf dumps for you that give you a 100% passing guaran
 tee or to achieve best in HPE2-K43 test.\n\n*CertsWay Money Back Guarantee
 :*\n\nWe are fully satisfied with our best HPE2-K43 pdf dumps and recent r
 esults were also appreciating. We are not here to build empires but to ser
 ve Storage Solutions Architect students with best and valid coming HPE2-K4
 3 pdf dumps. We don't compromise on our valuable student's carrier. We are
  giving you 100% success guarantee in the HPE2-K43 pdf dumps. If you don't
  get success in a very first attempt. You can get all your money back. Yes
 \, CertsWay gives you a 100% Money back guarantee. So why to chose another
  when CertsWay has all you need for HPE2-K43 pdf dumps.\n\nHP HPE2-K43 Exa
 m Dumps | HPE2-K43 PDF Dumps | HPE2-K43 PDF Questions| HPE2-K43 BrainDumps
  | HPE2-K43 Practice Test | Storage Solutions Architect Questions with Ver
 ified Answers | Designing High-End HPE Storage Platforms Test Software | H
 PE2-K43 Practice Questions
LOCATION:Venue to be confirmed
END:VEVENT
END:VCALENDAR
