BEGIN:VCALENDAR
VERSION:2.0
PRODID:-//Talks.cam//talks.cam.ac.uk//
X-WR-CALNAME:Talks.cam
BEGIN:VEVENT
SUMMARY:Near horizon optical geometry and universal properties of black ho
 les - Claude Warnick (DAMTP)
DTSTART:20081021T150000Z
DTEND:20081021T160000Z
UID:TALK14443@talks.cam.ac.uk
CONTACT:Professor Maciej Dunajski
DESCRIPTION:Abstract not available
LOCATION:DAMTP\, room MR11
END:VEVENT
END:VCALENDAR
