BEGIN:VCALENDAR
VERSION:2.0
PRODID:-//Talks.cam//talks.cam.ac.uk//
X-WR-CALNAME:Talks.cam
BEGIN:VEVENT
SUMMARY:How Adobe AD0-E452 is vital for your personal AD0-E452 Guaranteed 
 Achievements?    - Speaker to be confirmed
DTSTART:20200603T100000Z
DTEND:20200603T110000Z
UID:TALK144574@talks.cam.ac.uk
CONTACT:94657
DESCRIPTION:*Searching for the Adobe AD0-E452 Exam Dumps? - AD0-E452 PDF D
 umps 2020*\n\nHunting for one of the most updated and valid "Adobe AD0-E45
 2 exam dumps pdf":https://www.dumpslink.com/AD0-E452-pdf-dumps.html supply
  for the preparation from the AD0-E452 test questions? In case your answer
  is yes then you should really get the valid Adobe AD0-E452 pdf dumps prov
 ided by the DumpsLink. Updated Adobe AD0-E452 pdf questions offered by the
  DumpsLink will be the most complete supply for the preparation that could
  enable you to in passing the Adobe Audience Manager Architect new questio
 ns in the initially try. The Adobe AD0-E452 exam dumps questions are becom
 ing recognized as the topmost supply for the preparation as these AD0-E452
  new questions have already been verified by the Adobe experts.\n\n!https:
 //i.ibb.co/SvCfy60/Blue-Airline-General-Linked-In-Banner.png!\n\n*Valid Ad
 obe AD0-E452 Pdf Dumps of DumpsLink*\n\nThese Adobe AD0-E452 pdf dumps als
 o cover the topics from the exam ocde exam. A full go through of these AD0
 -E452 braindumps questions will let you clear all of your doubts regarding
  the Adobe Audience Manager Architect exam. You could also get the opportu
 nity to acquire them in PDF format. As a operating skilled you may locate 
 it tough to prepare for the Adobe AD0-E452 exam questions. The Adobe AD0-E
 452 dumps pdf are the fantastic supply that could make it easier to in ove
 rcoming this obstacle. You'll be able to prepare for the Adobe Audience Ma
 nager Architect new questions in accordance with your very own timetable w
 ith exam ocde pdf dumps.\n\n*Practice with Adobe AD0-E452 Practice Exam Qu
 estions*\n\nIt is possible to also possess the chance of practicing the Ad
 obe AD0-E452 exam questions for the preparation. You could do so with all 
 the AD0-E452 practice exam questions. It is possible to also get the possi
 bility to get to understand the genuine Adobe Audience Manager Architect e
 xam. Plus you can also locate the weak places in your Adobe AD0-E452 new q
 uestions preparation.\n\n!https://i.ibb.co/4mmXs6D/Inspirational-Quote-Lin
 ked-In-Post-Header.png!\n\n*100% Cash Back Assure on Adobe AD0-E452 Dumps 
 PDF*\n\nYour revenue might be secure with "Adobe AD0-E452 dumps pdf":https
 ://www.dumpslink.com/AD0-E452-pdf-dumps.html as they provide the 100% mone
 y-back guarantee. It really is very advised to take a look at the Adobe AD
 0-E452 exam questions evaluations exactly where Adobe Certified Expert exp
 erts have shared their expertise with Adobe Audience Manager Architect AD0
 -E452 braindumps questions. You could also get the AD0-E452 braindumps que
 stions with 90 days’ cost-free updates around the Adobe Audience Manager
  Architect test questions. Furthermore\, you could possess the complete as
 surance of accomplishment in the initially try. Get Adobe Audience Manager
  Architect certification with DumpsLink and join a family members of more 
 than 90\,000 happy customers.
LOCATION:Venue to be confirmed
END:VEVENT
END:VCALENDAR
