BEGIN:VCALENDAR
VERSION:2.0
PRODID:-//Talks.cam//talks.cam.ac.uk//
X-WR-CALNAME:Talks.cam
BEGIN:VEVENT
SUMMARY:How Amazon SCS-C01 is vital to your SCS-C01 Certain Good results? 
    - Speaker to be confirmed
DTSTART:20200603T100000Z
DTEND:20200603T110000Z
UID:TALK144700@talks.cam.ac.uk
CONTACT:Joseph Dunn - DELETED
DESCRIPTION:*Looking for the Amazon SCS-C01 Exam Dumps? - SCS-C01 PDF Dump
 s 2020*\n\nSearching for probably the most updated and valid "Amazon SCS-C
 01 exam dumps pdf":https://www.dumpslink.com/SCS-C01-pdf-dumps.html source
  for the preparation from the SCS-C01 test questions? In case your answer 
 is yes then you should really get the valid Amazon SCS-C01 pdf dumps provi
 ded by the DumpsLink. Updated Amazon SCS-C01 pdf questions offered by the 
 DumpsLink would be the most comprehensive source for the preparation that 
 could help you in passing the AWS Certified Security Specialty new questio
 ns in the 1st attempt. The Amazon SCS-C01 exam dumps questions are becomin
 g recognized as the topmost source for the preparation as these SCS-C01 ne
 w questions happen to be verified by the Amazon authorities.\n\n!https://i
 .ibb.co/SvCfy60/Blue-Airline-General-Linked-In-Banner.png!\n\n*Valid Amazo
 n SCS-C01 Pdf Dumps of DumpsLink*\n\nThese Amazon SCS-C01 pdf dumps also c
 over the topics in the exam ocde exam. A complete go through of these SCS-
 C01 braindumps questions will let you clear all your doubts about the AWS 
 Certified Security Specialty exam. You'll be able to also get the likeliho
 od to get them in PDF format. As a working professional you could uncover 
 it difficult to prepare for the Amazon SCS-C01 exam questions. The Amazon 
 SCS-C01 dumps pdf are the perfect source which will make it easier to in o
 vercoming this obstacle. You are able to prepare for the AWS Certified Sec
 urity Specialty new questions according to your own personal timetable wit
 h exam ocde pdf dumps.\n\n*Practice with Amazon SCS-C01 Practice Exam Ques
 tions*\n\nIt is possible to also have the chance of practicing the Amazon 
 SCS-C01 exam questions for the preparation. It is possible to do so using 
 the SCS-C01 practice exam questions. You'll be able to also get the likeli
 hood to get to know the real AWS Certified Security Specialty exam. Plus y
 ou may also locate the weak places within your Amazon SCS-C01 new question
 s preparation.\n\n!https://i.ibb.co/4mmXs6D/Inspirational-Quote-Linked-In-
 Post-Header.png!\n\n*100% Revenue Back Assure on Amazon SCS-C01 Dumps PDF*
 \n\nYour cash is going to be protected with "Amazon SCS-C01 dumps pdf":htt
 ps://www.dumpslink.com/SCS-C01-pdf-dumps.html as they provide the 100% mon
 ey-back guarantee. It is very advised to have a look at the Amazon SCS-C01
  exam questions evaluations exactly where AWS Certified Specialty speciali
 sts have shared their practical experience with AWS Certified Security Spe
 cialty SCS-C01 braindumps questions. You'll be able to also get the SCS-C0
 1 braindumps questions with 90 days’ no cost updates on the AWS Certifie
 d Security Specialty test questions. Furthermore\, you'll be able to posse
 ss the full assurance of success within the initially attempt. Get AWS Cer
 tified Security Specialty certification with DumpsLink and join a loved on
 es of more than 90\,000 satisfied shoppers.
LOCATION:Venue to be confirmed
END:VEVENT
END:VCALENDAR
