BEGIN:VCALENDAR
VERSION:2.0
PRODID:-//Talks.cam//talks.cam.ac.uk//
X-WR-CALNAME:Talks.cam
BEGIN:VEVENT
SUMMARY:How CheckPoint 156-315.77 is important for your personal 156-315.7
 7 Certain Good results?    - Speaker to be confirmed
DTSTART:20200603T100000Z
DTEND:20200603T110000Z
UID:TALK144919@talks.cam.ac.uk
CONTACT:Joseph Dunn - DELETED
DESCRIPTION:*Seeking the CheckPoint 156-315.77 Exam Dumps? - 156-315.77 PD
 F Dumps 2020*\n\nHunting for the most updated and valid "CheckPoint 156-31
 5.77 exam dumps pdf":https://www.dumpslink.com/156-315.77-pdf-dumps.html s
 ource for the preparation from the 156-315.77 test questions? If your answ
 er is yes then you definitely ought to get the valid CheckPoint 156-315.77
  pdf dumps supplied by the DumpsLink. Updated CheckPoint 156-315.77 pdf qu
 estions provided by the DumpsLink are the most comprehensive supply for th
 e preparation that can allow you to in passing the Check Point Certified S
 ecurity Expert new questions in the first try. The CheckPoint 156-315.77 e
 xam dumps questions are being recognized because the topmost source for th
 e preparation as these 156-315.77 new questions happen to be verified by t
 he CheckPoint authorities.\n\n!https://i.ibb.co/SvCfy60/Blue-Airline-Gener
 al-Linked-In-Banner.png!\n\n*Valid CheckPoint 156-315.77 Pdf Dumps of Dump
 sLink*\n\nThese CheckPoint 156-315.77 pdf dumps also cover the subjects on
  the exam ocde exam. A complete go through of those 156-315.77 braindumps 
 questions will let you clear all your doubts in regards to the Check Point
  Certified Security Expert exam. You may also get the chance to get them i
 n PDF format. As a working skilled you could discover it hard to prepare f
 or the CheckPoint 156-315.77 exam questions. The CheckPoint 156-315.77 dum
 ps pdf are the great supply that should allow you to in overcoming this ob
 stacle. You'll be able to prepare for the Check Point Certified Security E
 xpert new questions according to your own personal timetable with exam ocd
 e pdf dumps.\n\n*Practice with CheckPoint 156-315.77 Practice Exam Questio
 ns*\n\nYou could also have the opportunity of practicing the CheckPoint 15
 6-315.77 exam questions for the preparation. You'll be able to do so with 
 all the 156-315.77 practice exam questions. You can also get the likelihoo
 d to obtain to understand the real Check Point Certified Security Expert e
 xam. Plus you could also find the weak places inside your CheckPoint 156-3
 15.77 new questions preparation.\n\n!https://i.ibb.co/4mmXs6D/Inspirationa
 l-Quote-Linked-In-Post-Header.png!\n\n*100% Money Back Assure on CheckPoin
 t 156-315.77 Dumps PDF*\n\nYour revenue will probably be protected with "C
 heckPoint 156-315.77 dumps pdf":https://www.dumpslink.com/156-315.77-pdf-d
 umps.html as they offer the 100% money-back guarantee. It is very suggeste
 d to take a look at the CheckPoint 156-315.77 exam questions evaluations w
 here CCSE specialists have shared their expertise with Check Point Certifi
 ed Security Expert 156-315.77 braindumps questions. You'll be able to also
  get the 156-315.77 braindumps questions with 90 days’ totally free upda
 tes around the Check Point Certified Security Expert test questions. Addit
 ionally\, you are able to have the full assurance of results in the very f
 irst try. Get Check Point Certified Security Expert certification with Dum
 psLink and join a family members of greater than 90\,000 satisfied clients
 .
LOCATION:Venue to be confirmed
END:VEVENT
END:VCALENDAR
