BEGIN:VCALENDAR
VERSION:2.0
PRODID:-//Talks.cam//talks.cam.ac.uk//
X-WR-CALNAME:Talks.cam
BEGIN:VEVENT
SUMMARY:How Cisco 300-835 is essential on your 300-835 Guaranteed Success?
     - Speaker to be confirmed
DTSTART:20200603T100000Z
DTEND:20200603T110000Z
UID:TALK144997@talks.cam.ac.uk
CONTACT:Joseph Dunn - DELETED
DESCRIPTION:*In search of the Cisco 300-835 Exam Dumps? - 300-835 PDF Dump
 s 2020*\n\nSeeking for the most updated and valid "Cisco 300-835 exam dump
 s pdf":https://www.dumpslink.com/300-835-pdf-dumps.html source for the pre
 paration of the 300-835 test questions? If your answer is yes then you nee
 d to get the valid Cisco 300-835 pdf dumps supplied by the DumpsLink. Upda
 ted Cisco 300-835 pdf questions presented by the DumpsLink are the most co
 mplete source for the preparation that will allow you to in passing the Au
 tomating Cisco Collaboration Solutions new questions within the very first
  try. The Cisco 300-835 exam dumps questions are being recognized because 
 the topmost supply for the preparation as these 300-835 new questions happ
 en to be verified by the Cisco specialists.\n\n!https://i.ibb.co/SvCfy60/B
 lue-Airline-General-Linked-In-Banner.png!\n\n*Valid Cisco 300-835 Pdf Dump
 s of DumpsLink*\n\nThese Cisco 300-835 pdf dumps also cover the topics of 
 your CLAUTO exam ocde exam. A full undergo of these CLAUTO 300-835 braindu
 mps questions will allow you to clear all of your doubts in regards to the
  Automating Cisco Collaboration Solutions exam. You'll be able to also get
  the possibility to acquire them in PDF format. As a functioning specialis
 t you may come across it difficult to prepare for the Cisco 300-835 exam q
 uestions. The Cisco 300-835 dumps pdf would be the best source that could 
 make it easier to in overcoming this obstacle. You are able to prepare for
  the Automating Cisco Collaboration Solutions new questions as outlined by
  your own personal timetable with CLAUTO exam ocde pdf dumps.\n\n*Practice
  with Cisco 300-835 Practice Exam Questions*\n\nYou could also possess the
  chance of practicing the Cisco 300-835 exam questions for the preparation
 . You could do so with all the 300-835 practice exam questions. You are ab
 le to also get the chance to get to understand the genuine Automating Cisc
 o Collaboration Solutions exam. Plus you can also locate the weak areas in
  your Cisco 300-835 new questions preparation.\n\n!https://i.ibb.co/4mmXs6
 D/Inspirational-Quote-Linked-In-Post-Header.png!\n\n*100% Revenue Back Gua
 rantee on Cisco 300-835 Dumps PDF*\n\nYour funds will be safe with "Cisco 
 300-835 dumps pdf":https://www.dumpslink.com/300-835-pdf-dumps.html as the
 y provide the 100% money-back assure. It truly is extremely recommended to
  take a look at the Cisco 300-835 exam questions evaluations where CCNP Co
 llaboration pros have shared their practical experience with Automating Ci
 sco Collaboration Solutions 300-835 braindumps questions. You are able to 
 also get the CLAUTO 300-835 braindumps questions with 90 days’ no cost u
 pdates around the Automating Cisco Collaboration Solutions test questions.
  In addition\, you may possess the full assurance of success inside the fi
 rst attempt. Get Automating Cisco Collaboration Solutions certification wi
 th DumpsLink and join a household of more than 90\,000 satisfied shoppers.
LOCATION:Venue to be confirmed
END:VEVENT
END:VCALENDAR
