BEGIN:VCALENDAR
VERSION:2.0
PRODID:-//Talks.cam//talks.cam.ac.uk//
X-WR-CALNAME:Talks.cam
BEGIN:VEVENT
SUMMARY:How Cisco 500-450 is critical on your 500-450 Confirmed Achievemen
 ts?    - Speaker to be confirmed
DTSTART:20200603T100000Z
DTEND:20200603T110000Z
UID:TALK145138@talks.cam.ac.uk
CONTACT:DELETED
DESCRIPTION:*Looking for the Cisco 500-450 Exam Dumps? - 500-450 PDF Dumps
  2020*\n\nSearching for probably the most updated and valid "Cisco 500-450
  exam dumps pdf":https://www.dumpslink.com/500-450-pdf-dumps.html supply f
 or the preparation in the 500-450 test questions? In case your answer is y
 es then you definitely should really get the valid Cisco 500-450 pdf dumps
  offered by the DumpsLink. Updated Cisco 500-450 pdf questions presented b
 y the DumpsLink will be the most extensive supply for the preparation that
  should assist you to in passing the Implementing and Supporting Cisco Uni
 fied Contact Center Enterprise new questions in the initial try. The Cisco
  500-450 exam dumps questions are becoming recognized because the topmost 
 source for the preparation as these 500-450 new questions have already bee
 n verified by the Cisco professionals.\n\n!https://i.ibb.co/SvCfy60/Blue-A
 irline-General-Linked-In-Banner.png!\n\n*Valid Cisco 500-450 Pdf Dumps of 
 DumpsLink*\n\nThese Cisco 500-450 pdf dumps also cover the subjects in the
  UCCEIS exam ocde exam. A complete undergo of those UCCEIS 500-450 braindu
 mps questions will allow you to clear all your doubts in regards to the Im
 plementing and Supporting Cisco Unified Contact Center Enterprise exam. It
  is possible to also get the likelihood to obtain them in PDF format. As a
  functioning specialist you could locate it difficult to prepare for the C
 isco 500-450 exam questions. The Cisco 500-450 dumps pdf would be the best
  supply that could assist you in overcoming this obstacle. You may prepare
  for the Implementing and Supporting Cisco Unified Contact Center Enterpri
 se new questions based on your personal timetable with UCCEIS exam ocde pd
 f dumps.\n\n*Practice with Cisco 500-450 Practice Exam Questions*\n\nYou c
 ould also possess the chance of practicing the Cisco 500-450 exam question
 s for the preparation. It is possible to do so together with the 500-450 p
 ractice exam questions. You'll be able to also get the chance to have to k
 now the real Implementing and Supporting Cisco Unified Contact Center Ente
 rprise exam. Plus you could also find the weak places inside your Cisco 50
 0-450 new questions preparation.\n\n!https://i.ibb.co/4mmXs6D/Inspirationa
 l-Quote-Linked-In-Post-Header.png!\n\n*100% Money Back Assure on Cisco 500
 -450 Dumps PDF*\n\nYour cash will probably be protected with "Cisco 500-45
 0 dumps pdf":https://www.dumpslink.com/500-450-pdf-dumps.html as they offe
 r the 100% money-back assure. It is actually highly encouraged to check ou
 t the Cisco 500-450 exam questions testimonials exactly where Cisco Unifie
 d Contact Center Enterprise Specialist experts have shared their expertise
  with Implementing and Supporting Cisco Unified Contact Center Enterprise 
 500-450 braindumps questions. You may also get the UCCEIS 500-450 braindum
 ps questions with 90 days’ free updates on the Implementing and Supporti
 ng Cisco Unified Contact Center Enterprise test questions. Furthermore\, i
 t is possible to possess the full assurance of results in the initial atte
 mpt. Get Implementing and Supporting Cisco Unified Contact Center Enterpri
 se certification with DumpsLink and join a loved ones of more than 90\,000
  happy shoppers.
LOCATION:Venue to be confirmed
END:VEVENT
END:VCALENDAR
