BEGIN:VCALENDAR
VERSION:2.0
PRODID:-//Talks.cam//talks.cam.ac.uk//
X-WR-CALNAME:Talks.cam
BEGIN:VEVENT
SUMMARY:How Cisco 500-301 is critical to your 500-301 Assured Accomplishme
 nt?    - Speaker to be confirmed
DTSTART:20200603T100000Z
DTEND:20200603T110000Z
UID:TALK145183@talks.cam.ac.uk
CONTACT:DELETED
DESCRIPTION:*Looking for the Cisco 500-301 Exam Dumps? - 500-301 PDF Dumps
  2020*\n\nSeeking for by far the most updated and valid "Cisco 500-301 exa
 m dumps pdf":https://www.dumpslink.com/500-301-pdf-dumps.html source for t
 he preparation of the 500-301 test questions? If your answer is yes then y
 ou definitely need to get the valid Cisco 500-301 pdf dumps provided by th
 e DumpsLink. Updated Cisco 500-301 pdf questions presented by the DumpsLin
 k will be the most comprehensive supply for the preparation that may assis
 t you in passing the Cisco Cloud Collaboration Solutions new questions ins
 ide the 1st attempt. The Cisco 500-301 exam dumps questions are being reco
 gnized because the topmost supply for the preparation as these 500-301 new
  questions have already been verified by the Cisco authorities.\n\n!https:
 //i.ibb.co/SvCfy60/Blue-Airline-General-Linked-In-Banner.png!\n\n*Valid Ci
 sco 500-301 Pdf Dumps of DumpsLink*\n\nThese Cisco 500-301 pdf dumps also 
 cover the subjects in the CCS exam ocde exam. A total undergo of these CCS
  500-301 braindumps questions will allow you to clear all of your doubts a
 bout the Cisco Cloud Collaboration Solutions exam. You can also get the ch
 ance to get them in PDF format. As a operating expert you could possibly d
 iscover it tough to prepare for the Cisco 500-301 exam questions. The Cisc
 o 500-301 dumps pdf will be the ideal supply that will allow you to in ove
 rcoming this obstacle. You could prepare for the Cisco Cloud Collaboration
  Solutions new questions according to your personal timetable with CCS exa
 m ocde pdf dumps.\n\n*Practice with Cisco 500-301 Practice Exam Questions*
 \n\nYou are able to also possess the opportunity of practicing the Cisco 5
 00-301 exam questions for the preparation. You are able to do so together 
 with the 500-301 practice exam questions. You can also get the chance to a
 cquire to know the real Cisco Cloud Collaboration Solutions exam. Plus it 
 is possible to also locate the weak places within your Cisco 500-301 new q
 uestions preparation.\n\n!https://i.ibb.co/4mmXs6D/Inspirational-Quote-Lin
 ked-In-Post-Header.png!\n\n*100% Dollars Back Guarantee on Cisco 500-301 D
 umps PDF*\n\nYour funds might be safe with "Cisco 500-301 dumps pdf":https
 ://www.dumpslink.com/500-301-pdf-dumps.html as they offer the 100% money-b
 ack assure. It's hugely encouraged to check out the Cisco 500-301 exam que
 stions critiques where Advanced Collaboration Architecture Specialization 
 professionals have shared their encounter with Cisco Cloud Collaboration S
 olutions 500-301 braindumps questions. You'll be able to also get the CCS 
 500-301 braindumps questions with 90 days’ totally free updates on the C
 isco Cloud Collaboration Solutions test questions. In addition\, you may h
 ave the complete assurance of accomplishment within the 1st try. Get Cisco
  Cloud Collaboration Solutions certification with DumpsLink and join a lov
 ed ones of greater than 90\,000 satisfied shoppers.
LOCATION:Venue to be confirmed
END:VEVENT
END:VCALENDAR
