BEGIN:VCALENDAR
VERSION:2.0
PRODID:-//Talks.cam//talks.cam.ac.uk//
X-WR-CALNAME:Talks.cam
BEGIN:VEVENT
SUMMARY:Keira Knightley's costume – Atonement in film and fiction - Adri
 an Barlow\, Institute of Continuing Education
DTSTART:20081029T170000Z
DTEND:20081029T174500Z
UID:TALK14524@talks.cam.ac.uk
CONTACT:Selina Hawkins
DESCRIPTION:Atonement has been a phenomenal success both as a book and as 
 a film\, but each has also been strongly criticised. What are the strength
 s and weaknesses of each? \n\nAges 14+
LOCATION:Lady Mitchell Hall\, Sidgwick Site
END:VEVENT
END:VCALENDAR
