BEGIN:VCALENDAR
VERSION:2.0
PRODID:-//Talks.cam//talks.cam.ac.uk//
X-WR-CALNAME:Talks.cam
BEGIN:VEVENT
SUMMARY:How CompTIA FC0-U51 is important on your FC0-U51 Confirmed Success
 ?    - Speaker to be confirmed
DTSTART:20200603T100000Z
DTEND:20200603T110000Z
UID:TALK145285@talks.cam.ac.uk
CONTACT:DELETED
DESCRIPTION:*Looking for the CompTIA FC0-U51 Exam Dumps? - FC0-U51 PDF Dum
 ps 2020*\n\nSeeking for the most updated and valid "CompTIA FC0-U51 exam d
 umps pdf":https://www.dumpslink.com/FC0-U51-pdf-dumps.html supply for the 
 preparation of the FC0-U51 test questions? If your answer is yes then you 
 ought to get the valid CompTIA FC0-U51 pdf dumps provided by the DumpsLink
 . Updated CompTIA FC0-U51 pdf questions supplied by the DumpsLink will be 
 the most comprehensive supply for the preparation that can make it easier 
 to in passing the CompTIA IT Fundamentals Certification Exam new questions
  in the very first attempt. The CompTIA FC0-U51 exam dumps questions are g
 etting recognized because the topmost source for the preparation as these 
 FC0-U51 new questions have already been verified by the CompTIA specialist
 s.\n\n!https://i.ibb.co/SvCfy60/Blue-Airline-General-Linked-In-Banner.png!
 \n\n*Valid CompTIA FC0-U51 Pdf Dumps of DumpsLink*\n\nThese CompTIA FC0-U5
 1 pdf dumps also cover the subjects from the exam ocde exam. A total under
 go of these FC0-U51 braindumps questions will let you clear all your doubt
 s about the CompTIA IT Fundamentals Certification Exam exam. You may also 
 get the opportunity to get them in PDF format. As a working qualified you 
 could obtain it tough to prepare for the CompTIA FC0-U51 exam questions. T
 he CompTIA FC0-U51 dumps pdf would be the ideal source that will assist yo
 u to in overcoming this obstacle. You'll be able to prepare for the CompTI
 A IT Fundamentals Certification Exam new questions in accordance with your
  personal timetable with exam ocde pdf dumps.\n\n*Practice with CompTIA FC
 0-U51 Practice Exam Questions*\n\nIt is possible to also have the opportun
 ity of practicing the CompTIA FC0-U51 exam questions for the preparation. 
 You may do so with the FC0-U51 practice exam questions. You'll be able to 
 also get the opportunity to acquire to understand the actual CompTIA IT Fu
 ndamentals Certification Exam exam. Plus it is possible to also find the w
 eak regions in your CompTIA FC0-U51 new questions preparation.\n\n!https:/
 /i.ibb.co/4mmXs6D/Inspirational-Quote-Linked-In-Post-Header.png!\n\n*100% 
 Dollars Back Guarantee on CompTIA FC0-U51 Dumps PDF*\n\nYour revenue will 
 be secure with "CompTIA FC0-U51 dumps pdf":https://www.dumpslink.com/FC0-U
 51-pdf-dumps.html as they provide the 100% money-back guarantee. It can be
  extremely advisable to take a look at the CompTIA FC0-U51 exam questions 
 reviews where CompTIA IT Fundamentals specialists have shared their experi
 ence with CompTIA IT Fundamentals Certification Exam FC0-U51 braindumps qu
 estions. You can also get the FC0-U51 braindumps questions with 90 days’
  free updates around the CompTIA IT Fundamentals Certification Exam test q
 uestions. In addition\, you can have the full assurance of accomplishment 
 within the initial attempt. Get CompTIA IT Fundamentals Certification Exam
  certification with DumpsLink and join a household of greater than 90\,000
  happy prospects.
LOCATION:Venue to be confirmed
END:VEVENT
END:VCALENDAR
