BEGIN:VCALENDAR
VERSION:2.0
PRODID:-//Talks.cam//talks.cam.ac.uk//
X-WR-CALNAME:Talks.cam
BEGIN:VEVENT
SUMMARY:How FINRA Series-7 is crucial to your Series-7 Certain Achievement
 ?    - Speaker to be confirmed
DTSTART:20200603T100000Z
DTEND:20200603T110000Z
UID:TALK145564@talks.cam.ac.uk
CONTACT:Saige Gorczany - DELETED
DESCRIPTION:*Searching for the FINRA Series-7 Exam Dumps? - Series-7 PDF D
 umps 2020*\n\nHunting for by far the most updated and valid "FINRA Series-
 7 exam dumps pdf":https://www.dumpslink.com/Series-7-pdf-dumps.html supply
  for the preparation in the Series-7 test questions? In case your answer i
 s yes then you should get the valid FINRA Series-7 pdf dumps provided by t
 he DumpsLink. Updated FINRA Series-7 pdf questions supplied by the DumpsLi
 nk would be the most comprehensive source for the preparation that should 
 assist you to in passing the General Securities Representative new questio
 ns in the initially try. The FINRA Series-7 exam dumps questions are getti
 ng recognized because the topmost supply for the preparation as these Seri
 es-7 new questions have been verified by the FINRA specialists.\n\n!https:
 //i.ibb.co/SvCfy60/Blue-Airline-General-Linked-In-Banner.png!\n\n*Valid FI
 NRA Series-7 Pdf Dumps of DumpsLink*\n\nThese FINRA Series-7 pdf dumps als
 o cover the subjects with the GSRE exam ocde exam. A total undergo of thes
 e GSRE Series-7 braindumps questions will allow you to clear all of your d
 oubts in regards to the General Securities Representative exam. You are ab
 le to also get the possibility to acquire them in PDF format. As a functio
 ning experienced you might come across it hard to prepare for the FINRA Se
 ries-7 exam questions. The FINRA Series-7 dumps pdf will be the fantastic 
 supply which will help you in overcoming this obstacle. You may prepare fo
 r the General Securities Representative new questions according to your pe
 rsonal timetable with GSRE exam ocde pdf dumps.\n\n*Practice with FINRA Se
 ries-7 Practice Exam Questions*\n\nYou'll be able to also possess the chan
 ce of practicing the FINRA Series-7 exam questions for the preparation. Yo
 u could do so together with the Series-7 practice exam questions. You can 
 also get the opportunity to get to know the actual General Securities Repr
 esentative exam. Plus you are able to also locate the weak locations insid
 e your FINRA Series-7 new questions preparation.\n\n!https://i.ibb.co/4mmX
 s6D/Inspirational-Quote-Linked-In-Post-Header.png!\n\n*100% Funds Back Gua
 rantee on FINRA Series-7 Dumps PDF*\n\nYour cash will be safe with "FINRA 
 Series-7 dumps pdf":https://www.dumpslink.com/Series-7-pdf-dumps.html as t
 hey offer the 100% money-back guarantee. It truly is extremely advised to 
 take a look at the FINRA Series-7 exam questions reviews exactly where Gen
 eral Securities Representative professionals have shared their practical e
 xperience with General Securities Representative Series-7 braindumps quest
 ions. You may also get the GSRE Series-7 braindumps questions with 90 days
 ’ absolutely free updates around the General Securities Representative t
 est questions. In addition\, you can have the full assurance of results in
 side the initial try. Get General Securities Representative certification 
 with DumpsLink and join a loved ones of more than 90\,000 satisfied buyers
 .
LOCATION:Venue to be confirmed
END:VEVENT
END:VCALENDAR
