BEGIN:VCALENDAR
VERSION:2.0
PRODID:-//Talks.cam//talks.cam.ac.uk//
X-WR-CALNAME:Talks.cam
BEGIN:VEVENT
SUMMARY:How HP HPE6-A70 is crucial for the HPE6-A70 Certain Results?    - 
 Speaker to be confirmed
DTSTART:20200603T100000Z
DTEND:20200603T110000Z
UID:TALK145717@talks.cam.ac.uk
CONTACT:Saige Gorczany - DELETED
DESCRIPTION:*In search of the HP HPE6-A70 Exam Dumps? - HPE6-A70 PDF Dumps
  2020*\n\nSearching for essentially the most updated and valid "HP HPE6-A7
 0 exam dumps pdf":https://www.dumpslink.com/HPE6-A70-pdf-dumps.html supply
  for the preparation of your HPE6-A70 test questions? If your answer is ye
 s then you definitely should really get the valid HP HPE6-A70 pdf dumps su
 pplied by the DumpsLink. Updated HP HPE6-A70 pdf questions offered by the 
 DumpsLink will be the most complete supply for the preparation that will e
 nable you to in passing the Aruba Certified Mobility Associate new questio
 ns within the initial try. The HP HPE6-A70 exam dumps questions are being 
 recognized because the topmost supply for the preparation as these HPE6-A7
 0 new questions have already been verified by the HP professionals.\n\n!ht
 tps://i.ibb.co/SvCfy60/Blue-Airline-General-Linked-In-Banner.png!\n\n*Vali
 d HP HPE6-A70 Pdf Dumps of DumpsLink*\n\nThese HP HPE6-A70 pdf dumps also 
 cover the topics with the ACMA exam ocde exam. A complete undergo of these
  ACMA HPE6-A70 braindumps questions will let you clear all your doubts in 
 regards to the Aruba Certified Mobility Associate exam. You'll be able to 
 also get the possibility to acquire them in PDF format. As a working exper
 t you may find it tough to prepare for the HP HPE6-A70 exam questions. The
  HP HPE6-A70 dumps pdf would be the excellent source that may allow you to
  in overcoming this obstacle. You are able to prepare for the Aruba Certif
 ied Mobility Associate new questions in accordance with your very own time
 table with ACMA exam ocde pdf dumps.\n\n*Practice with HP HPE6-A70 Practic
 e Exam Questions*\n\nYou can also have the opportunity of practicing the H
 P HPE6-A70 exam questions for the preparation. You can do so using the HPE
 6-A70 practice exam questions. You are able to also get the likelihood to 
 obtain to understand the genuine Aruba Certified Mobility Associate exam. 
 Plus you'll be able to also locate the weak locations within your HP HPE6-
 A70 new questions preparation.\n\n!https://i.ibb.co/4mmXs6D/Inspirational-
 Quote-Linked-In-Post-Header.png!\n\n*100% Revenue Back Guarantee on HP HPE
 6-A70 Dumps PDF*\n\nYour cash will likely be safe with "HP HPE6-A70 dumps 
 pdf":https://www.dumpslink.com/HPE6-A70-pdf-dumps.html as they offer the 1
 00% money-back assure. It's extremely advisable to check out the HP HPE6-A
 70 exam questions testimonials exactly where HPE Aruba Certified specialis
 ts have shared their knowledge with Aruba Certified Mobility Associate HPE
 6-A70 braindumps questions. You'll be able to also get the ACMA HPE6-A70 b
 raindumps questions with 90 days’ absolutely free updates on the Aruba C
 ertified Mobility Associate test questions. In addition\, you'll be able t
 o have the complete assurance of success inside the very first attempt. Ge
 t Aruba Certified Mobility Associate certification with DumpsLink and join
  a family of greater than 90\,000 happy shoppers.
LOCATION:Venue to be confirmed
END:VEVENT
END:VCALENDAR
