BEGIN:VCALENDAR
VERSION:2.0
PRODID:-//Talks.cam//talks.cam.ac.uk//
X-WR-CALNAME:Talks.cam
BEGIN:VEVENT
SUMMARY:How HP HPE2-E72 is vital for your HPE2-E72 Confirmed Achievements?
     - Speaker to be confirmed
DTSTART:20200603T100000Z
DTEND:20200603T110000Z
UID:TALK145813@talks.cam.ac.uk
CONTACT:Saige Gorczany - DELETED
DESCRIPTION:*Looking for the HP HPE2-E72 Exam Dumps? - HPE2-E72 PDF Dumps 
 2020*\n\nHunting for the most updated and valid "HP HPE2-E72 exam dumps pd
 f":https://www.dumpslink.com/HPE2-E72-pdf-dumps.html source for the prepar
 ation of your HPE2-E72 test questions? If your answer is yes then you shou
 ld get the valid HP HPE2-E72 pdf dumps offered by the DumpsLink. Updated H
 P HPE2-E72 pdf questions provided by the DumpsLink will be the most compre
 hensive supply for the preparation that should help you in passing the Sel
 ling HPE Hybrid Cloud Solutions new questions within the initially try. Th
 e HP HPE2-E72 exam dumps questions are getting recognized because the topm
 ost supply for the preparation as these HPE2-E72 new questions happen to b
 e verified by the HP authorities.\n\n!https://i.ibb.co/SvCfy60/Blue-Airlin
 e-General-Linked-In-Banner.png!\n\n*Valid HP HPE2-E72 Pdf Dumps of DumpsLi
 nk*\n\nThese HP HPE2-E72 pdf dumps also cover the topics on the exam ocde 
 exam. A comprehensive go through of these HPE2-E72 braindumps questions wi
 ll allow you to clear all of your doubts in regards to the Selling HPE Hyb
 rid Cloud Solutions exam. You can also get the likelihood to acquire them 
 in PDF format. As a functioning qualified you could possibly discover it t
 ough to prepare for the HP HPE2-E72 exam questions. The HP HPE2-E72 dumps 
 pdf would be the best source that could allow you to in overcoming this ob
 stacle. It is possible to prepare for the Selling HPE Hybrid Cloud Solutio
 ns new questions in line with your individual timetable with exam ocde pdf
  dumps.\n\n*Practice with HP HPE2-E72 Practice Exam Questions*\n\nYou can 
 also have the opportunity of practicing the HP HPE2-E72 exam questions for
  the preparation. You may do so using the HPE2-E72 practice exam questions
 . You may also get the opportunity to obtain to understand the true Sellin
 g HPE Hybrid Cloud Solutions exam. Plus you may also locate the weak locat
 ions inside your HP HPE2-E72 new questions preparation.\n\n!https://i.ibb.
 co/4mmXs6D/Inspirational-Quote-Linked-In-Post-Header.png!\n\n*100% Dollars
  Back Guarantee on HP HPE2-E72 Dumps PDF*\n\nYour money might be protected
  with "HP HPE2-E72 dumps pdf":https://www.dumpslink.com/HPE2-E72-pdf-dumps
 .html as they provide the 100% money-back guarantee. It is highly recommen
 ded to have a look at the HP HPE2-E72 exam questions evaluations where HP 
 Other Certification professionals have shared their knowledge with Selling
  HPE Hybrid Cloud Solutions HPE2-E72 braindumps questions. You can also ge
 t the HPE2-E72 braindumps questions with 90 days’ free updates on the Se
 lling HPE Hybrid Cloud Solutions test questions. Moreover\, you can posses
 s the complete assurance of accomplishment inside the 1st try. Get Selling
  HPE Hybrid Cloud Solutions certification with DumpsLink and join a family
  of more than 90\,000 satisfied customers.
LOCATION:Venue to be confirmed
END:VEVENT
END:VCALENDAR
