BEGIN:VCALENDAR
VERSION:2.0
PRODID:-//Talks.cam//talks.cam.ac.uk//
X-WR-CALNAME:Talks.cam
BEGIN:VEVENT
SUMMARY:How Isaca CISA is essential on your CISA Confirmed Achievement?   
  - Speaker to be confirmed
DTSTART:20200603T100000Z
DTEND:20200603T110000Z
UID:TALK146065@talks.cam.ac.uk
CONTACT:Frank Figueroa - DELETED
DESCRIPTION:*Looking for the Isaca CISA Exam Dumps? - CISA PDF Dumps 2020*
 \n\nLooking for by far the most updated and valid "Isaca CISA exam dumps p
 df":https://www.dumpslink.com/CISA-pdf-dumps.html supply for the preparati
 on of the CISA test questions? In case your answer is yes then you definit
 ely really should get the valid Isaca CISA pdf dumps presented by the Dump
 sLink. Updated Isaca CISA pdf questions offered by the DumpsLink will be t
 he most complete supply for the preparation which will allow you to in pas
 sing the Certified Information Systems Auditor new questions in the 1st tr
 y. The Isaca CISA exam dumps questions are becoming recognized because the
  topmost supply for the preparation as these CISA new questions have alrea
 dy been verified by the Isaca professionals.\n\n!https://i.ibb.co/SvCfy60/
 Blue-Airline-General-Linked-In-Banner.png!\n\n*Valid Isaca CISA Pdf Dumps 
 of DumpsLink*\n\nThese Isaca CISA pdf dumps also cover the subjects of the
  exam ocde exam. A full undergo of those CISA braindumps questions will le
 t you clear all your doubts concerning the Certified Information Systems A
 uditor exam. It is possible to also get the likelihood to acquire them in 
 PDF format. As a operating professional you may come across it difficult t
 o prepare for the Isaca CISA exam questions. The Isaca CISA dumps pdf woul
 d be the excellent source that will assist you in overcoming this obstacle
 . You could prepare for the Certified Information Systems Auditor new ques
 tions in line with your own timetable with exam ocde pdf dumps.\n\n*Practi
 ce with Isaca CISA Practice Exam Questions*\n\nYou are able to also have t
 he opportunity of practicing the Isaca CISA exam questions for the prepara
 tion. You'll be able to do so using the CISA practice exam questions. You 
 may also get the possibility to obtain to know the genuine Certified Infor
 mation Systems Auditor exam. Plus you may also find the weak places in you
 r Isaca CISA new questions preparation.\n\n!https://i.ibb.co/4mmXs6D/Inspi
 rational-Quote-Linked-In-Post-Header.png!\n\n*100% Money Back Assure on Is
 aca CISA Dumps PDF*\n\nYour money might be protected with "Isaca CISA dump
 s pdf":https://www.dumpslink.com/CISA-pdf-dumps.html as they provide the 1
 00% money-back assure. It is actually hugely recommended to check out the 
 Isaca CISA exam questions reviews exactly where CISA specialists have shar
 ed their knowledge with Certified Information Systems Auditor CISA braindu
 mps questions. You could also get the CISA braindumps questions with 90 da
 ys’ totally free updates on the Certified Information Systems Auditor te
 st questions. In addition\, you are able to have the full assurance of res
 ults within the first try. Get Certified Information Systems Auditor certi
 fication with DumpsLink and join a family of more than 90\,000 happy custo
 mers.
LOCATION:Venue to be confirmed
END:VEVENT
END:VCALENDAR
