BEGIN:VCALENDAR
VERSION:2.0
PRODID:-//Talks.cam//talks.cam.ac.uk//
X-WR-CALNAME:Talks.cam
BEGIN:VEVENT
SUMMARY:How Microsoft 70-744 is crucial for your 70-744 Assured Results?  
   - Speaker to be confirmed
DTSTART:20200603T100000Z
DTEND:20200603T110000Z
UID:TALK146263@talks.cam.ac.uk
CONTACT:DELETED
DESCRIPTION:*Looking for the Microsoft 70-744 Exam Dumps? - 70-744 PDF Dum
 ps 2020*\n\nLooking for essentially the most updated and valid "Microsoft 
 70-744 exam dumps pdf":https://www.dumpslink.com/70-744-pdf-dumps.html sup
 ply for the preparation of your 70-744 test questions? In case your answer
  is yes then you should get the valid Microsoft 70-744 pdf dumps presented
  by the DumpsLink. Updated Microsoft 70-744 pdf questions presented by the
  DumpsLink would be the most complete supply for the preparation that can 
 allow you to in passing the Securing Windows Server 2016 new questions in 
 the 1st attempt. The Microsoft 70-744 exam dumps questions are getting rec
 ognized because the topmost source for the preparation as these 70-744 new
  questions happen to be verified by the Microsoft experts.\n\n!https://i.i
 bb.co/SvCfy60/Blue-Airline-General-Linked-In-Banner.png!\n\n*Valid Microso
 ft 70-744 Pdf Dumps of DumpsLink*\n\nThese Microsoft 70-744 pdf dumps also
  cover the topics of the Windows Server 2016 exam ocde exam. A total go th
 rough of these Windows Server 2016 70-744 braindumps questions will allow 
 you to clear all your doubts about the Securing Windows Server 2016 exam. 
 You'll be able to also get the chance to acquire them in PDF format. As a 
 operating expert you could possibly discover it tough to prepare for the M
 icrosoft 70-744 exam questions. The Microsoft 70-744 dumps pdf would be th
 e perfect supply that should make it easier to in overcoming this obstacle
 . You can prepare for the Securing Windows Server 2016 new questions based
  on your own timetable with Windows Server 2016 exam ocde pdf dumps.\n\n*P
 ractice with Microsoft 70-744 Practice Exam Questions*\n\nYou may also pos
 sess the opportunity of practicing the Microsoft 70-744 exam questions for
  the preparation. You are able to do so with all the 70-744 practice exam 
 questions. You may also get the chance to have to understand the real Secu
 ring Windows Server 2016 exam. Plus you'll be able to also locate the weak
  locations within your Microsoft 70-744 new questions preparation.\n\n!htt
 ps://i.ibb.co/4mmXs6D/Inspirational-Quote-Linked-In-Post-Header.png!\n\n*1
 00% Income Back Assure on Microsoft 70-744 Dumps PDF*\n\nYour cash might b
 e safe with "Microsoft 70-744 dumps pdf":https://www.dumpslink.com/70-744-
 pdf-dumps.html as they provide the 100% money-back guarantee. It can be ve
 ry advisable to have a look at the Microsoft 70-744 exam questions testimo
 nials where MCSA pros have shared their practical experience with Securing
  Windows Server 2016 70-744 braindumps questions. You are able to also get
  the Windows Server 2016 70-744 braindumps questions with 90 days’ absol
 utely free updates around the Securing Windows Server 2016 test questions.
  Furthermore\, it is possible to have the full assurance of success within
  the very first attempt. Get Securing Windows Server 2016 certification wi
 th DumpsLink and join a family of greater than 90\,000 happy clients.
LOCATION:Venue to be confirmed
END:VEVENT
END:VCALENDAR
