BEGIN:VCALENDAR
VERSION:2.0
PRODID:-//Talks.cam//talks.cam.ac.uk//
X-WR-CALNAME:Talks.cam
BEGIN:VEVENT
SUMMARY:Picture perfect: from golden rules to golden boys - Suzanne Anker:
  School of Visual Arts\, New York
DTSTART:20081028T170000Z
DTEND:20081028T180000Z
UID:TALK14636@talks.cam.ac.uk
CONTACT:Nick Hopwood
DESCRIPTION:Abstract not available
LOCATION:Department of History and Philosophy of Science
END:VEVENT
END:VCALENDAR
