BEGIN:VCALENDAR
VERSION:2.0
PRODID:-//Talks.cam//talks.cam.ac.uk//
X-WR-CALNAME:Talks.cam
BEGIN:VEVENT
SUMMARY:How Microsoft MO-300 is critical for the MO-300 Confirmed Good res
 ults?    - Speaker to be confirmed
DTSTART:20200603T100000Z
DTEND:20200603T110000Z
UID:TALK146368@talks.cam.ac.uk
CONTACT:Delaney Buckridge - DELETED
DESCRIPTION:*Looking for the Microsoft MO-300 Exam Dumps? - MO-300 PDF Dum
 ps 2020*\n\nHunting for one of the most updated and valid "Microsoft MO-30
 0 exam dumps pdf":https://www.dumpslink.com/MO-300-pdf-dumps.html source f
 or the preparation of your MO-300 test questions? In case your answer is y
 es then you definitely need to get the valid Microsoft MO-300 pdf dumps su
 pplied by the DumpsLink. Updated Microsoft MO-300 pdf questions offered by
  the DumpsLink are the most complete source for the preparation that may m
 ake it easier to in passing the Microsoft PowerPoint (PowerPoint and Power
 Point 2019) new questions inside the very first attempt. The Microsoft MO-
 300 exam dumps questions are getting recognized because the topmost supply
  for the preparation as these MO-300 new questions happen to be verified b
 y the Microsoft experts.\n\n!https://i.ibb.co/SvCfy60/Blue-Airline-General
 -Linked-In-Banner.png!\n\n*Valid Microsoft MO-300 Pdf Dumps of DumpsLink*\
 n\nThese Microsoft MO-300 pdf dumps also cover the subjects of your PowerP
 oint Associate (PowerPoint and PowerPoint 2019) exam ocde exam. A full und
 ergo of those PowerPoint Associate (PowerPoint and PowerPoint 2019) MO-300
  braindumps questions will allow you to clear all your doubts in regards t
 o the Microsoft PowerPoint (PowerPoint and PowerPoint 2019) exam. You'll b
 e able to also get the opportunity to have them in PDF format. As a workin
 g skilled you could discover it hard to prepare for the Microsoft MO-300 e
 xam questions. The Microsoft MO-300 dumps pdf are the perfect supply that 
 could help you in overcoming this obstacle. You can prepare for the Micros
 oft PowerPoint (PowerPoint and PowerPoint 2019) new questions according to
  your own personal timetable with PowerPoint Associate (PowerPoint and Pow
 erPoint 2019) exam ocde pdf dumps.\n\n*Practice with Microsoft MO-300 Prac
 tice Exam Questions*\n\nYou can also possess the chance of practicing the 
 Microsoft MO-300 exam questions for the preparation. You could do so with 
 the MO-300 practice exam questions. You can also get the chance to obtain 
 to know the real Microsoft PowerPoint (PowerPoint and PowerPoint 2019) exa
 m. Plus you are able to also find the weak regions inside your Microsoft M
 O-300 new questions preparation.\n\n!https://i.ibb.co/4mmXs6D/Inspirationa
 l-Quote-Linked-In-Post-Header.png!\n\n*100% Cash Back Guarantee on Microso
 ft MO-300 Dumps PDF*\n\nYour dollars are going to be protected with "Micro
 soft MO-300 dumps pdf":https://www.dumpslink.com/MO-300-pdf-dumps.html as 
 they provide the 100% money-back assure. It can be extremely suggested to 
 take a look at the Microsoft MO-300 exam questions reviews where Microsoft
  Office Specialist specialists have shared their expertise with Microsoft 
 PowerPoint (PowerPoint and PowerPoint 2019) MO-300 braindumps questions. Y
 ou'll be able to also get the PowerPoint Associate (PowerPoint and PowerPo
 int 2019) MO-300 braindumps questions with 90 days’ free of charge updat
 es on the Microsoft PowerPoint (PowerPoint and PowerPoint 2019) test quest
 ions. Moreover\, you'll be able to possess the complete assurance of accom
 plishment within the initially try. Get Microsoft PowerPoint (PowerPoint a
 nd PowerPoint 2019) certification with DumpsLink and join a loved ones of 
 more than 90\,000 satisfied shoppers.
LOCATION:Venue to be confirmed
END:VEVENT
END:VCALENDAR
