BEGIN:VCALENDAR
VERSION:2.0
PRODID:-//Talks.cam//talks.cam.ac.uk//
X-WR-CALNAME:Talks.cam
BEGIN:VEVENT
SUMMARY:How Microsoft 98-383 is important for your 98-383 Assured Achievem
 ents?    - Speaker to be confirmed
DTSTART:20200603T100000Z
DTEND:20200603T110000Z
UID:TALK146431@talks.cam.ac.uk
CONTACT:DELETED
DESCRIPTION:*Seeking the Microsoft 98-383 Exam Dumps? - 98-383 PDF Dumps 2
 020*\n\nHunting for the most updated and valid "Microsoft 98-383 exam dump
 s pdf":https://www.dumpslink.com/98-383-pdf-dumps.html supply for the prep
 aration of your 98-383 test questions? In case your answer is yes then you
  ought to get the valid Microsoft 98-383 pdf dumps offered by the DumpsLin
 k. Updated Microsoft 98-383 pdf questions supplied by the DumpsLink would 
 be the most complete source for the preparation that may assist you to in 
 passing the Introduction to Programming Using HTML and CSS new questions i
 n the initial try. The Microsoft 98-383 exam dumps questions are being rec
 ognized because the topmost supply for the preparation as these 98-383 new
  questions have been verified by the Microsoft specialists.\n\n!https://i.
 ibb.co/SvCfy60/Blue-Airline-General-Linked-In-Banner.png!\n\n*Valid Micros
 oft 98-383 Pdf Dumps of DumpsLink*\n\nThese Microsoft 98-383 pdf dumps als
 o cover the topics on the HTML5 and CSS3 exam ocde exam. A total undergo o
 f these HTML5 and CSS3 98-383 braindumps questions will allow you to clear
  all of your doubts regarding the Introduction to Programming Using HTML a
 nd CSS exam. You can also get the opportunity to get them in PDF format. A
 s a operating skilled you could obtain it hard to prepare for the Microsof
 t 98-383 exam questions. The Microsoft 98-383 dumps pdf are the fantastic 
 source that will assist you to in overcoming this obstacle. You'll be able
  to prepare for the Introduction to Programming Using HTML and CSS new que
 stions as outlined by your very own timetable with HTML5 and CSS3 exam ocd
 e pdf dumps.\n\n*Practice with Microsoft 98-383 Practice Exam Questions*\n
 \nYou could also possess the opportunity of practicing the Microsoft 98-38
 3 exam questions for the preparation. You'll be able to do so with the 98-
 383 practice exam questions. It is possible to also get the possibility to
  obtain to understand the actual Introduction to Programming Using HTML an
 d CSS exam. Plus you'll be able to also locate the weak regions in your Mi
 crosoft 98-383 new questions preparation.\n\n!https://i.ibb.co/4mmXs6D/Ins
 pirational-Quote-Linked-In-Post-Header.png!\n\n*100% Income Back Assure on
  Microsoft 98-383 Dumps PDF*\n\nYour revenue are going to be protected wit
 h "Microsoft 98-383 dumps pdf":https://www.dumpslink.com/98-383-pdf-dumps.
 html as they provide the 100% money-back guarantee. It is highly advised t
 o check out the Microsoft 98-383 exam questions testimonials where MTA exp
 erts have shared their experience with Introduction to Programming Using H
 TML and CSS 98-383 braindumps questions. You may also get the HTML5 and CS
 S3 98-383 braindumps questions with 90 days’ free of charge updates arou
 nd the Introduction to Programming Using HTML and CSS test questions. Addi
 tionally\, you are able to have the complete assurance of success inside t
 he very first try. Get Introduction to Programming Using HTML and CSS cert
 ification with DumpsLink and join a household of more than 90\,000 happy c
 lients.
LOCATION:Venue to be confirmed
END:VEVENT
END:VCALENDAR
