BEGIN:VCALENDAR
VERSION:2.0
PRODID:-//Talks.cam//talks.cam.ac.uk//
X-WR-CALNAME:Talks.cam
BEGIN:VEVENT
SUMMARY:Little Higgs Model with T-Parity - Professor Maxim Perelstein (Cor
 nell)
DTSTART:20090115T160000Z
DTEND:20090115T170000Z
UID:TALK14651@talks.cam.ac.uk
CONTACT:Are Raklev
DESCRIPTION:I will discuss the Little Higgs mechanism of electroweak symme
 try breaking and the Littlest Higgs with T-parity (LHT)\, a fully realisti
 c implementation of this mechanism. I will describe the structure of the m
 odel\, phenomenological constraints on its parameters\, and its signatures
  at the Tevatron and the LHC. I will also present the results of a recent 
 study of the capability of the LHC experiments to distinguish the LHT from
  supersymmetry\, in a situation where no cascade decay chains are kinemati
 cally allowed. 
LOCATION:MR13\, CMS
END:VEVENT
END:VCALENDAR
