BEGIN:VCALENDAR
VERSION:2.0
PRODID:-//Talks.cam//talks.cam.ac.uk//
X-WR-CALNAME:Talks.cam
BEGIN:VEVENT
SUMMARY:Women's Status Men's States - Catharine MacKinnon (Elizabeth A. Lo
 ng Professor of Law at the University of Michigan Law School)
DTSTART:20081023T140000Z
DTEND:20081023T153000Z
UID:TALK14670@talks.cam.ac.uk
CONTACT:Lesley Dixon
DESCRIPTION:More than half a century after the Universal Declaration of Hu
 man Rights defined what a human being is and is entitled to\, Catharine Ma
 cKinnon asks: Are women human yet? If women were regarded as human\, would
  they be sold into sexual slavery worldwide\; veiled\, silenced\, and impr
 isoned in homes\; bred\, and worked as menials for little or no pay\; ston
 ed for sex outside marriage or burned within it\; mutilated genitally\, im
 poverished economically\, and mired in illiteracy-all as a matter of cours
 e and without effective recourse?\n
LOCATION:Faculty of Law Room LG17
END:VEVENT
END:VCALENDAR
