BEGIN:VCALENDAR
VERSION:2.0
PRODID:-//Talks.cam//talks.cam.ac.uk//
X-WR-CALNAME:Talks.cam
BEGIN:VEVENT
SUMMARY:How Oracle 1Z0-821 is important in your 1Z0-821 Certain Achievemen
 t?    - Speaker to be confirmed
DTSTART:20200603T100000Z
DTEND:20200603T110000Z
UID:TALK146875@talks.cam.ac.uk
CONTACT:Johan Barton - DELETED
DESCRIPTION:*In search of the Oracle 1Z0-821 Exam Dumps? - 1Z0-821 PDF Dum
 ps 2020*\n\nSearching for the most updated and valid "Oracle 1Z0-821 exam 
 dumps pdf":https://www.dumpslink.com/1Z0-821-pdf-dumps.html supply for the
  preparation in the 1Z0-821 test questions? In case your answer is yes the
 n you definitely ought to get the valid Oracle 1Z0-821 pdf dumps provided 
 by the DumpsLink. Updated Oracle 1Z0-821 pdf questions presented by the Du
 mpsLink are the most comprehensive source for the preparation that will al
 low you to in passing the Oracle Solaris 11 System Administration new ques
 tions within the very first try. The Oracle 1Z0-821 exam dumps questions a
 re being recognized as the topmost supply for the preparation as these 1Z0
 -821 new questions happen to be verified by the Oracle experts.\n\n!https:
 //i.ibb.co/SvCfy60/Blue-Airline-General-Linked-In-Banner.png!\n\n*Valid Or
 acle 1Z0-821 Pdf Dumps of DumpsLink*\n\nThese Oracle 1Z0-821 pdf dumps als
 o cover the subjects on the exam ocde exam. A total go through of those 1Z
 0-821 braindumps questions will let you clear all of your doubts regarding
  the Oracle Solaris 11 System Administration exam. You are able to also ge
 t the likelihood to obtain them in PDF format. As a operating specialist y
 ou might come across it difficult to prepare for the Oracle 1Z0-821 exam q
 uestions. The Oracle 1Z0-821 dumps pdf would be the great source that will
  assist you in overcoming this obstacle. It is possible to prepare for the
  Oracle Solaris 11 System Administration new questions according to your p
 ersonal timetable with exam ocde pdf dumps.\n\n*Practice with Oracle 1Z0-8
 21 Practice Exam Questions*\n\nIt is possible to also have the chance of p
 racticing the Oracle 1Z0-821 exam questions for the preparation. You'll be
  able to do so together with the 1Z0-821 practice exam questions. You may 
 also get the opportunity to obtain to understand the actual Oracle Solaris
  11 System Administration exam. Plus you are able to also locate the weak 
 locations within your Oracle 1Z0-821 new questions preparation.\n\n!https:
 //i.ibb.co/4mmXs6D/Inspirational-Quote-Linked-In-Post-Header.png!\n\n*100%
  Funds Back Assure on Oracle 1Z0-821 Dumps PDF*\n\nYour income are going t
 o be safe with "Oracle 1Z0-821 dumps pdf":https://www.dumpslink.com/1Z0-82
 1-pdf-dumps.html as they provide the 100% money-back assure. It is extreme
 ly advised to take a look at the Oracle 1Z0-821 exam questions evaluations
  where Oracle Solaris experts have shared their expertise with Oracle Sola
 ris 11 System Administration 1Z0-821 braindumps questions. You could also 
 get the 1Z0-821 braindumps questions with 90 days’ free updates around t
 he Oracle Solaris 11 System Administration test questions. Moreover\, you 
 are able to have the full assurance of good results inside the 1st try. Ge
 t Oracle Solaris 11 System Administration certification with DumpsLink and
  join a household of greater than 90\,000 happy prospects.
LOCATION:Venue to be confirmed
END:VEVENT
END:VCALENDAR
