BEGIN:VCALENDAR
VERSION:2.0
PRODID:-//Talks.cam//talks.cam.ac.uk//
X-WR-CALNAME:Talks.cam
BEGIN:VEVENT
SUMMARY:The Neglected Ally: China in World War II - Professor Hans van de 
 Ven
DTSTART:20081025T100000Z
DTEND:20081025T110000Z
UID:TALK14696@talks.cam.ac.uk
CONTACT:Selina Hawkins
DESCRIPTION:Professor Hans van de Ven explores China's impact on World War
  II. Often forgotten in place of other countries\, China managed to make i
 t a decisive moment in its history\, the consequences of which are still w
 ith all of us today. \nAges 14+ \n\n
LOCATION:Faculty of Asian &amp\; Middle Eastern Studies\, Sidgwick Avenue
END:VEVENT
END:VCALENDAR
