BEGIN:VCALENDAR
VERSION:2.0
PRODID:-//Talks.cam//talks.cam.ac.uk//
X-WR-CALNAME:Talks.cam
BEGIN:VEVENT
SUMMARY:How Oracle 1Z0-1065-20 is crucial for your personal 1Z0-1065-20 Co
 nfirmed Results?    - Speaker to be confirmed
DTSTART:20200603T100000Z
DTEND:20200603T110000Z
UID:TALK146974@talks.cam.ac.uk
CONTACT:Reba Bosco
DESCRIPTION:*Seeking the Oracle 1Z0-1065-20 Exam Dumps? - 1Z0-1065-20 PDF 
 Dumps 2020*\n\nHunting for essentially the most updated and valid "Oracle 
 1Z0-1065-20 exam dumps pdf":https://www.dumpslink.com/1Z0-1065-20-pdf-dump
 s.html source for the preparation from the 1Z0-1065-20 test questions? In 
 case your answer is yes then you should get the valid Oracle 1Z0-1065-20 p
 df dumps presented by the DumpsLink. Updated Oracle 1Z0-1065-20 pdf questi
 ons provided by the DumpsLink will be the most comprehensive source for th
 e preparation that can enable you to in passing the Oracle Procurement Clo
 ud 2020 Implementation Essentials new questions within the first attempt. 
 The Oracle 1Z0-1065-20 exam dumps questions are being recognized because t
 he topmost source for the preparation as these 1Z0-1065-20 new questions h
 ave been verified by the Oracle specialists.\n\n!https://i.ibb.co/SvCfy60/
 Blue-Airline-General-Linked-In-Banner.png!\n\n*Valid Oracle 1Z0-1065-20 Pd
 f Dumps of DumpsLink*\n\nThese Oracle 1Z0-1065-20 pdf dumps also cover the
  topics of your Oracle Procurement Cloud exam ocde exam. A complete underg
 o of these Oracle Procurement Cloud 1Z0-1065-20 braindumps questions will 
 allow you to clear all your doubts about the Oracle Procurement Cloud 2020
  Implementation Essentials exam. You may also get the likelihood to get th
 em in PDF format. As a working qualified you might uncover it tough to pre
 pare for the Oracle 1Z0-1065-20 exam questions. The Oracle 1Z0-1065-20 dum
 ps pdf are the great supply which will assist you to in overcoming this ob
 stacle. You could prepare for the Oracle Procurement Cloud 2020 Implementa
 tion Essentials new questions as outlined by your personal timetable with 
 Oracle Procurement Cloud exam ocde pdf dumps.\n\n*Practice with Oracle 1Z0
 -1065-20 Practice Exam Questions*\n\nYou may also possess the opportunity 
 of practicing the Oracle 1Z0-1065-20 exam questions for the preparation. Y
 ou could do so using the 1Z0-1065-20 practice exam questions. You are able
  to also get the chance to have to know the true Oracle Procurement Cloud 
 2020 Implementation Essentials exam. Plus you'll be able to also find the 
 weak locations within your Oracle 1Z0-1065-20 new questions preparation.\n
 \n!https://i.ibb.co/4mmXs6D/Inspirational-Quote-Linked-In-Post-Header.png!
 \n\n*100% Funds Back Guarantee on Oracle 1Z0-1065-20 Dumps PDF*\n\nYour re
 venue are going to be secure with "Oracle 1Z0-1065-20 dumps pdf":https://w
 ww.dumpslink.com/1Z0-1065-20-pdf-dumps.html as they offer the 100% money-b
 ack assure. It is actually very encouraged to take a look at the Oracle 1Z
 0-1065-20 exam questions critiques exactly where Oracle Cloud professional
 s have shared their encounter with Oracle Procurement Cloud 2020 Implement
 ation Essentials 1Z0-1065-20 braindumps questions. You are able to also ge
 t the Oracle Procurement Cloud 1Z0-1065-20 braindumps questions with 90 da
 ys’ free updates around the Oracle Procurement Cloud 2020 Implementation
  Essentials test questions. Additionally\, it is possible to have the comp
 lete assurance of success inside the initially try. Get Oracle Procurement
  Cloud 2020 Implementation Essentials certification with DumpsLink and joi
 n a family members of greater than 90\,000 satisfied shoppers.
LOCATION:Venue to be confirmed
END:VEVENT
END:VCALENDAR
