BEGIN:VCALENDAR
VERSION:2.0
PRODID:-//Talks.cam//talks.cam.ac.uk//
X-WR-CALNAME:Talks.cam
BEGIN:VEVENT
SUMMARY:How Oracle 1Z0-1066 is crucial on your 1Z0-1066 Guaranteed Achieve
 ments?    - Speaker to be confirmed
DTSTART:20200603T100000Z
DTEND:20200603T110000Z
UID:TALK147115@talks.cam.ac.uk
CONTACT:Milla Gair - DELETED
DESCRIPTION:*Searching for the Oracle 1Z0-1066 Exam Dumps? - 1Z0-1066 PDF 
 Dumps 2020*\n\nSearching for by far the most updated and valid "Oracle 1Z0
 -1066 exam dumps pdf":https://www.dumpslink.com/1Z0-1066-pdf-dumps.html su
 pply for the preparation in the 1Z0-1066 test questions? In case your answ
 er is yes then you definitely ought to get the valid Oracle 1Z0-1066 pdf d
 umps provided by the DumpsLink. Updated Oracle 1Z0-1066 pdf questions supp
 lied by the DumpsLink would be the most complete supply for the preparatio
 n that will assist you in passing the Oracle Planning and Collaboration Cl
 oud 2019 Implementation Essentials new questions inside the initially atte
 mpt. The Oracle 1Z0-1066 exam dumps questions are being recognized because
  the topmost source for the preparation as these 1Z0-1066 new questions ha
 ve been verified by the Oracle experts.\n\n!https://i.ibb.co/SvCfy60/Blue-
 Airline-General-Linked-In-Banner.png!\n\n*Valid Oracle 1Z0-1066 Pdf Dumps 
 of DumpsLink*\n\nThese Oracle 1Z0-1066 pdf dumps also cover the topics on 
 the Manufacturing Cloud exam ocde exam. A complete undergo of these Manufa
 cturing Cloud 1Z0-1066 braindumps questions will allow you to clear all of
  your doubts regarding the Oracle Planning and Collaboration Cloud 2019 Im
 plementation Essentials exam. You are able to also get the chance to get t
 hem in PDF format. As a functioning specialist you might locate it hard to
  prepare for the Oracle 1Z0-1066 exam questions. The Oracle 1Z0-1066 dumps
  pdf will be the perfect supply which will make it easier to in overcoming
  this obstacle. You'll be able to prepare for the Oracle Planning and Coll
 aboration Cloud 2019 Implementation Essentials new questions as outlined b
 y your personal timetable with Manufacturing Cloud exam ocde pdf dumps.\n\
 n*Practice with Oracle 1Z0-1066 Practice Exam Questions*\n\nYou'll be able
  to also possess the opportunity of practicing the Oracle 1Z0-1066 exam qu
 estions for the preparation. You can do so using the 1Z0-1066 practice exa
 m questions. You can also get the opportunity to get to understand the act
 ual Oracle Planning and Collaboration Cloud 2019 Implementation Essentials
  exam. Plus you could also locate the weak places inside your Oracle 1Z0-1
 066 new questions preparation.\n\n!https://i.ibb.co/4mmXs6D/Inspirational-
 Quote-Linked-In-Post-Header.png!\n\n*100% Dollars Back Guarantee on Oracle
  1Z0-1066 Dumps PDF*\n\nYour money are going to be protected with "Oracle 
 1Z0-1066 dumps pdf":https://www.dumpslink.com/1Z0-1066-pdf-dumps.html as t
 hey provide the 100% money-back guarantee. It is extremely suggested to ta
 ke a look at the Oracle 1Z0-1066 exam questions testimonials where Oracle 
 Cloud professionals have shared their practical experience with Oracle Pla
 nning and Collaboration Cloud 2019 Implementation Essentials 1Z0-1066 brai
 ndumps questions. It is possible to also get the Manufacturing Cloud 1Z0-1
 066 braindumps questions with 90 days’ free of charge updates around the
  Oracle Planning and Collaboration Cloud 2019 Implementation Essentials te
 st questions. Furthermore\, you may possess the full assurance of results 
 inside the first try. Get Oracle Planning and Collaboration Cloud 2019 Imp
 lementation Essentials certification with DumpsLink and join a household o
 f greater than 90\,000 happy buyers.
LOCATION:Venue to be confirmed
END:VEVENT
END:VCALENDAR
