BEGIN:VCALENDAR
VERSION:2.0
PRODID:-//Talks.cam//talks.cam.ac.uk//
X-WR-CALNAME:Talks.cam
BEGIN:VEVENT
SUMMARY:Reliable ITILSC-OSA Dumps Pdf : Perfection For ITILSC-OSA Exam Cer
 tification - Speaker to be confirmed
DTSTART:20200605T100000Z
DTEND:20200605T110000Z
UID:TALK148684@talks.cam.ac.uk
CONTACT:r
DESCRIPTION:*Can You Pass With ITILSC-OSA Exam Dumps – ITILSC-OSA Pdf Du
 mps : \n2020 Authentic ITILSC-OSA Exam Questions:*\n\nPeople give Exin ITI
 LSC-OSA certification exam because they need to prove themselves in inform
 ation and technology world. ITILSC-OSA exam dumps is here to support you a
 n d guide in every possible way. Exam dumps study material is authentic. "
 Exin ITILSC-OSA Exam Questions":https://www.dumpsforsales.com/product/ITIL
 SC-OSA-dumps-pdf/ which has been checked and verified by professionals. It
  sums up the entire syllabus. You better not give your second thoughts to 
 the reliability of our ITILSC-OSA pdf dumps. \n\nYou need to pass your Exi
 n ITILSC-OSA certification exam and ITILSC-OSA dumps pdf can help you achi
 eve your desired result. Your trust in us is our utmost duty. Your satisfa
 ction is our satisfaction. ITILSC-OSA exam dumps are the best choice for t
 he certification exam. \n\n!https://i.ibb.co/XF7wRSN/dumpsforsales.jpg!\n\
 n*These Exin ITILSC-OSA Exam Dumps Are Available in Pdf Format – Dumpsfo
 rsales:* \n\nThe format of ITILSC-OSA exam dumps that is pdf. It is feasib
 le to everybody out there. As almost everybody has smart phones and people
  are so engaged these days. They don't get enough time for preparation. So
  they can read notes on the go. It save your time too. This is so feasible
  and convenient for people all around the globe. Plus ITILSC-OSA dumps pdf
  claim that you would pass your examination with in the first attempt. The
  kind of study material ITILSC-OSA exam questions have is just beyond perf
 ection as it's precisely covered the whole syllabus. \n\n*Exin ITILSC-OSA 
 Exam Dumps Includes Questions And Answers ~ Exin Exam Certification:* \n\n
 When you are in a hurry and you don't feel like reading word to word then 
 ITILSC-OSA exam dumps is the most feasible for you. ITILSC-OSA Study mater
 ial is so comprehensible that it's been understood by everyone. This makes
  it so approachable and easy for all the Exin certification exam candidate
 s. It will saves a lot of time as questions and answer are already given a
 nd prepared which are updated and verified by professionals. \n\n*Once You
  Buy These ITILSC-OSA Exam Questions – We Will Give You 3 Months Of Free
  Updates*\n\nExin ITILSC-OSA exam questions are all about your satisfactio
 n. \nYou keep getting notified about the changes that would have been made
  by experts. You just need to purchase it like for once then you would get
  notified about the update for a long time. As information and technology 
 has been up to so much that new inventions and innovations keep coming in 
 and we have to keep updating the study material accordingly. \n\n*Demo Opt
 ion To Grab Before You Get Your Hands ITILSC-OSA Exam Dumps:*\n\nYou are n
 ot under the gun to buy ITILSC-OSA exam dumps. So\, for that ITILSC-OSA ex
 am questions have the demo option as well to make people believe about the
  authenticity of our product and what exactly are we selling. Demo to buil
 d up your trust towards ITILSC-OSA exam dumps. This is so important for pe
 ople who are very discreet about the choices they make related to the prep
 aration of certification exam. \n\n*Free Demo Download:*https://www.dumpsf
 orsales.com/product/ITILSC-OSA-dumps-pdf/\n\n*Money Back Guarantee For ITI
 LSC-OSA Exam Dumps:*\n\nNothing satisfying than getting your money back. I
 f you don't get what you want you can simply ask for your money. So for yo
 ur information\, your money is safe both ways. First off\, you won't regre
 t after purchasing ITILSC-OSA exam dumps. It will make you feel super conf
 ident that you don't feel like your money getting wasted or anything.\n
LOCATION:Venue to be confirmed
END:VEVENT
END:VCALENDAR
