BEGIN:VCALENDAR
VERSION:2.0
PRODID:-//Talks.cam//talks.cam.ac.uk//
X-WR-CALNAME:Talks.cam
BEGIN:VEVENT
SUMMARY:Amazon Amazon Specialty MLS-C01 Practice PDF Dumps - Speaker to be
  confirmed
DTSTART:20200611T100000Z
DTEND:20200611T110000Z
UID:TALK148960@talks.cam.ac.uk
CONTACT:DELETED
DESCRIPTION:*Score best in Amazon Specialty exam with CertsWay up to date 
 MLS-C01 pdf questions.*\n\nGetting 100% in Amazon Specialty exam is no mor
 e a problem if you chose validly and updated Amazon MLS-C01 pdf questions 
 that guarantee your success in the very first attempt. CertsWay serves you
  with most actual close AWS Certified Machine Learning - Specialty questio
 ns to get success in Amazon MLS-C01 exam and to beat your competitors with
  CertsWay passing guarantee in Amazon Specialty exam. We have solutions to
  all your AWS Certified Machine Learning - Specialty exam problems. We hav
 e the best and valid "MLS-C01 pdf questions":https://certsway.com/MLS-C01-
 dumps-pdf/ for your 100% success in Amazon Specialty exam with a guarantee
 . Yes\, our professionals dont ask you to study hard or to pay attention e
 very time but offer you selective MLS-C01 pdf questions that are easily un
 derstandable and make your success guaranteed. We are not here to make mon
 ey or to provide candidates irrelevant material but our main aim is to ser
 ve candidates with most valid MLS-C01 pdf questions that appear in your ML
 S-C01 test.\n\n*Avail 100% success in AWS Certified Machine Learning - Spe
 cialty by chosing CertsWay valid MLS-C01 pdf questions.*\n\nGetting 100% i
 n Amazon Specialty exam is no more a problem if you chose valid Amazon MLS
 -C01 pdf questions. A lot of students dont know where to get real helping 
 and coming MLS-C01 exam questions they waste their time and money on unrea
 l MLS-C01 pdf questions answers. All you need is to lose your fear now as 
 CertsWay has a solution for all your MLS-C01 test problems. Yes with Certs
 Way valid "Amazon MLS-C01 pdf questions":https://certsway.com/MLS-C01-dump
 s-pdf/ you dont only pass your Amazon Specialty exam but can also achieve 
 100% in your MLS-C01 pdf questions exam with CertsWay real coming MLS-C01 
 questions that are best and coming in your MLS-C01 exam to get you best re
 sult without the risk of any second chance. Chose CertsWay valid MLS-C01 p
 df questions and score 100% in Amazon Specialty exam with our guarantee.\n
 \n*Our best Amazon MLS-C01 pdf questions braindumps at #1 | How?*\n\nWe ha
 ve several professionals who were looking to serve the candidates with rea
 l and actual close coming MLS-C01 pdf questions that are coming in your Am
 azon Specialty exam. Yes\, we have more than 200+ instructors for you who 
 guide you till you become a certified student. Our professionals say that 
 they have real coming MLS-C01 pdf questions for the students who want to a
 chieve success but facing time issues due to part-time jobs or any other i
 ssue. So CertsWay offers you real Amazon MLS-C01 pdf questions answers for
  success in Amazon Specialty exam guaranteed in a short time without any e
 ffort. Our recent results were mind-blowing as we are serving with best ML
 S-C01 pdf questions from the last 15+ years and brought amazing results in
  Amazon Specialty exam with CertsWay passing Amazon Specialty exam guarant
 ee.\n\n*CertsWay has Best and updated MLS-C01 pdf questions answers with:*
 \n\nInstant and free updates for 90+days.\n\nFree "MLS-C01 pdf questions":
 https://certsway.com/MLS-C01-dumps-pdf/ demo fully free.\n\n200+ Qualified
  professionals support.\n\n200+ Instructors for 24/7 support.\n\nMoney-Bac
 k guarantee.
LOCATION:Venue to be confirmed
END:VEVENT
END:VCALENDAR
