BEGIN:VCALENDAR
VERSION:2.0
PRODID:-//Talks.cam//talks.cam.ac.uk//
X-WR-CALNAME:Talks.cam
BEGIN:VEVENT
SUMMARY:Context in human robot interaction - Thomas Kollar (MIT)
DTSTART:20081021T140000Z
DTEND:20081021T150000Z
UID:TALK14897@talks.cam.ac.uk
CONTACT:Zoubin Ghahramani
DESCRIPTION:Abstract not available
LOCATION:Engineering Department\, CBL Room 438
END:VEVENT
END:VCALENDAR
