BEGIN:VCALENDAR
VERSION:2.0
PRODID:-//Talks.cam//talks.cam.ac.uk//
X-WR-CALNAME:Talks.cam
BEGIN:VEVENT
SUMMARY:How to Prepare for Amazon Amazon Associate SAA-C01 PDF Dumps - Spe
 aker to be confirmed
DTSTART:20200611T100000Z
DTEND:20200611T110000Z
UID:TALK148987@talks.cam.ac.uk
CONTACT:DELETED
DESCRIPTION:*Score best in Amazon Associate exam with CertsWay up to date 
 SAA-C01 pdf questions.*\n\nGetting 100% in Amazon Associate exam is no mor
 e a problem if you chose validly and updated Amazon SAA-C01 pdf questions 
 that guarantee your success in the very first attempt. CertsWay serves you
  with most actual close AWS Certified Solutions Architect €“ Associate
  questions to get success in Amazon SAA-C01 exam and to beat your competit
 ors with CertsWay passing guarantee in Amazon Associate exam. We have solu
 tions to all your AWS Certified Solutions Architect €“ Associate exam 
 problems. We have the best and valid "SAA-C01 pdf questions":https://certs
 way.com/SAA-C01-dumps-pdf/ for your 100% success in Amazon Associate exam 
 with a guarantee. Yes\, our professionals dont ask you to study hard or to
  pay attention every time but offer you selective SAA-C01 pdf questions th
 at are easily understandable and make your success guaranteed. We are not 
 here to make money or to provide candidates irrelevant material but our ma
 in aim is to serve candidates with most valid SAA-C01 pdf questions that a
 ppear in your SAA-C01 test.\n\n*Avail 100% success in AWS Certified Soluti
 ons Architect €“ Associate by chosing CertsWay valid SAA-C01 pdf quest
 ions.*\n\nGetting 100% in Amazon Associate exam is no more a problem if yo
 u chose valid Amazon SAA-C01 pdf questions. A lot of students dont know wh
 ere to get real helping and coming SAA-C01 exam questions they waste their
  time and money on unreal SAA-C01 pdf questions answers. All you need is t
 o lose your fear now as CertsWay has a solution for all your SAA-C01 test 
 problems. Yes with CertsWay valid "Amazon SAA-C01 pdf questions":https://c
 ertsway.com/SAA-C01-dumps-pdf/ you dont only pass your Amazon Associate ex
 am but can also achieve 100% in your SAA-C01 pdf questions exam with Certs
 Way real coming SAA-C01 questions that are best and coming in your SAA-C01
  exam to get you best result without the risk of any second chance. Chose 
 CertsWay valid SAA-C01 pdf questions and score 100% in Amazon Associate ex
 am with our guarantee.\n\n*Our best Amazon SAA-C01 pdf questions braindump
 s at #1 | How?*\n\nWe have several professionals who were looking to serve
  the candidates with real and actual close coming SAA-C01 pdf questions th
 at are coming in your Amazon Associate exam. Yes\, we have more than 200+ 
 instructors for you who guide you till you become a certified student. Our
  professionals say that they have real coming SAA-C01 pdf questions for th
 e students who want to achieve success but facing time issues due to part-
 time jobs or any other issue. So CertsWay offers you real Amazon SAA-C01 p
 df questions answers for success in Amazon Associate exam guaranteed in a 
 short time without any effort. Our recent results were mind-blowing as we 
 are serving with best SAA-C01 pdf questions from the last 15+ years and br
 ought amazing results in Amazon Associate exam with CertsWay passing Amazo
 n Associate exam guarantee.\n\n*CertsWay has Best and updated SAA-C01 pdf 
 questions answers with:*\n\nInstant and free updates for 90+days.\n\nFree 
 "SAA-C01 pdf questions":https://certsway.com/SAA-C01-dumps-pdf/ demo fully
  free.\n\n200+ Qualified professionals support.\n\n200+ Instructors for 24
 /7 support.\n\nMoney-Back guarantee.
LOCATION:Venue to be confirmed
END:VEVENT
END:VCALENDAR
