BEGIN:VCALENDAR
VERSION:2.0
PRODID:-//Talks.cam//talks.cam.ac.uk//
X-WR-CALNAME:Talks.cam
BEGIN:VEVENT
SUMMARY:Title to be confirmed - Speaker to be confirmed
DTSTART:20200611T100000Z
DTEND:20200611T110000Z
UID:TALK149068@talks.cam.ac.uk
CONTACT:DELETED
DESCRIPTION:FACEBOOK Live Stats Everyone Should Know \n\n1. Facebook Live 
 Broadcasts Have Doubled YEAR-OVER-YEAR SINCE ITS DEBUT IN 2016. \n\nFacebo
 ok Live communicates twofold in number since the component's 2016 dispatch
 . \n\nFacebook Live originally propelled in 2016 and has since multiplied 
 the quantity of communicates year-over-year. In that equivalent time\, the
  measure of every day normal communicates from confirmed distributer Pages
  expanded 1.5 occasions. Inside the most recent two years\, Facebook Live 
 communicates have counted 3.5 billion aggregate and more than 150 billion 
 responses to oblige them. At almost 2 billion Facebook clients who have ob
 served Live recordings\, the element gives indications of consistent devel
 opment. \n\n2. "FACEBOOK LIVESTREAM" SEARCH POPULARITY HAS RISEN OVER 330%
  SINCE FACEBOOK LIVE'S ROLLOUT \n\nFacebook's live video spilling stage in
 itially appeared for use with top big names on August 5\, 2015 preceding b
 eing accessible for everybody (April 6\, 2016). As per Google Trends\, loo
 k fame for the "Facebook livestream" has ascended over 330% from its comme
 ncement to date with spikes in understanding to significant occasions\, di
 stributer and influencer appropriation\, and New Year's Eve (Facebook Live
 's heaviest date of utilization up until this point). \n\n3. FACEBOOK PAID
  PUBLISHERS AND CELEBRITIES $50 MILLION TO USE FACEBOOK LIVE \n\nRealizing
  that convincing substance would have been urgent to Facebook Live's prosp
 erity\, Facebook caused manages significant distributers and characters so
  as to get them to utilize the stage. Buzzfeed\, the New York Times\, and 
 CNN had the most noteworthy worth agreements\, with Facebook paying out $3
 .05 million\, $3.03 million\, and $2.5 million to every distributer indivi
 dually. "Get now Facebook live feed stream viewers":https://buysocialfan.c
 om/buy-facebook-live-stream-views/\n\n4. FACEBOOK PAID $2.2 MILLION TO INF
 LUENCERS USING FACEBOOK LIVE \n\nIt wasn't simply distributers that were b
 ringing cash. Facebook additionally paid influencers a joined aggregate of
  $2.2 million to utilize Facebook Live. With content originating from an a
 ssortment of sources\, from huge media organizations to free influencers\,
  Facebook Live is home to increasingly differing content. \n\n5. Among JAN
 UARY AND MAY 2016\, FACEBOOK SAW A 300% INCREASE IN LIVE VIDEOS FROM MEDIA
  COMPANIES \n\nIn January 2016\, only 11% of Facebook pages for media orga
 nizations were home to Facebook Live recordings. By May 2016\, that number
  had developed to 44%. More than four months\, that is a 300% expansion\, 
 which addresses quite extraordinary development in a brief timeframe for t
 he stage. \n\nMedia organizations are the unmistakable force clients of th
 e Facebook Live stage. By and large\, media organizations are stream multi
 ple times more recordings contrasted with brands and friends pages.
LOCATION:Venue to be confirmed
END:VEVENT
END:VCALENDAR
