BEGIN:VCALENDAR
VERSION:2.0
PRODID:-//Talks.cam//talks.cam.ac.uk//
X-WR-CALNAME:Talks.cam
BEGIN:VEVENT
SUMMARY:Professional-Cloud-Developer PDF Dumps [2020] Prepare Exam Without
  Any Issue - Speaker to be confirmed
DTSTART:20200612T100000Z
DTEND:20200612T110000Z
UID:TALK149164@talks.cam.ac.uk
CONTACT:DELETED
DESCRIPTION:*Choose CertsWay for best results in Google Professional-Cloud
 -Developer Exam Dumps exam.*\n\nCertsWay has amazing "Professional-Cloud-D
 eveloper Exam Dumps":https://certsway.com/Professional-Cloud-Developer-dum
 ps-pdf/ for you. When you are looking for best to prepare in a shorter tim
 e chose certsway Professional-Cloud-Developer Exam Dumps. It's never too l
 ate to focus on your grades and best for Google Cloud Certified Certsway h
 as qualified professionals and certified students who are working day and 
 night to get you the best results in Professional-Cloud-Developer Google a
 nd get best in Google Cloud Certified. CertsWay professionals are looking 
 forward to giving you the best amazing and valid Professional-Cloud-Develo
 per questions Exam Dumps answers. Certsway doesn't offer you to study for 
 a long time and mess with your brain. You just need to study our selective
  Professional-Cloud-Developer Exam Dumps and all you need is to just buy o
 ur product Professional-Cloud-Developer questions pdf and get the best res
 ults in very first attempt.\n\n*CertsWay Valid Google Professional-Cloud-D
 eveloper Exam Dumps.*\n\nCertsway has amazing Professional-Cloud-Developer
  Exam Dumps for your guaranteed results in Google Cloud Certified. certsWa
 y professionals and certified students were looking to serve other student
 s with best selective and valid Professional-Cloud-Developer dump pdf so t
 hey chose Certsway to reach the candidates and deliver valid Professional-
 Cloud-Developer dump pdf. You can even compare our Professional Cloud Deve
 loper questions pdf with others. Certsway offers you valid Professional-Cl
 oud-Developer questions Exam Dumps answers to get the best it Google Cloud
  Certified guaranteed in the very first attempt.\n\n*Why choose Certsway P
 rofessional-Cloud-Developer Exam Dumps:*\n\nCertsWay has amazing and real 
 Professional-Cloud-Developer Exam Dumps for you that you don't need to wor
 ry about your Google Cloud Certified exam. Get ready to encourage yourself
  with the best and valid "Google Professional-Cloud-Developer questions pd
 f":https://certsway.com/Professional-Cloud-Developer-dumps-pdf/ questions 
 for you. Compare our selective training Professional-Cloud-Developer quest
 ions Exam Dumps answers for your coming Professional-Cloud-Developer Exam 
 Dumps. Certsway has more than:\n\n*90\,000+ Certified Candidates.*\n\nWith
  CertsWay Valid Professional-Cloud-Developer Exam Dumps more than 90\,000+
  are satisfied and got best results in Professional Cloud Developer Google
  Google Cloud Certified.\n\n*CertsWay Professional-Cloud-Developer Exam Du
 mps Money back guarantee.*\n\nCertsWay Professional-Cloud-Developer Exam D
 umps is 100% helping and serving best for students to get their Google Clo
 ud Certified and even with the best grades. Certsway gives you a 100% mone
 y-back guarantee so you don't need to worry about your Professional Cloud 
 Developer braindumps and get the best in Professional-Cloud-Developer test
 . You can get all your money back.\n\n*CertsWay Professional-Cloud-Develop
 er Exam Dumps data privacy.*\n\nCertsway gives you 100% best results guara
 ntee now you don't need to worry about your Professional-Cloud-Developer E
 xam Dumps we keep your data fully private and risk-free. Chose certsway Pr
 ofessional-Cloud-Developer Exam Dumps and get the best results in Professi
 onal-Cloud-Developer Google Google Cloud Certified.\n\n*Device compatibili
 ty for your Professional-Cloud-Developer Exam Dumps.*\n\nNow get ready to 
 get the best results in Professional Cloud Developer with certsway Profess
 ional-Cloud-Developer Exam Dumps. Our amazing selective Professional-Cloud
 -Developer questions have device compatibility enabled so you can study an
 ytime\, anywhere.\n\n*Save your time and money with CertsWay Professional-
 Cloud-Developer Exam Dumps.*\n\nCertsway saves your money and time with pr
 oviding you real Professional-Cloud-Developer Exam Dumps so you save your 
 time with certsway Professional-Cloud-Developer Exam Dumps as its easily d
 ownloadable and also has a safe method of payment for you. You can safely 
 buy best certsway Professional-Cloud-Developer questions Exam Dumps answer
 s for your best results in Google Cloud Certified and Professional-Cloud-D
 eveloper test. Leave all your stress on us get Google Cloud Certified Prof
 essional Cloud Developer guaranteed in very first attempt with CertsWay.\n
 \n_*Google Professional-Cloud-Developer Exam Dumps | Professional-Cloud-De
 veloper PDF Dumps | Professional-Cloud-Developer Exam Dumps | Professional
 -Cloud-Developer Test Simulator | Professional-Cloud-Developer Braindumps 
 | Professional-Cloud-Developer Practice Test | Professional Cloud Develope
 r Exam Questions | Professional-Cloud-Developer Simulation Questions | Pro
 fessional-Cloud-Developer Cheat Sheet | Professional-Cloud-Developer Pract
 ice Questions | Google Cloud Certified Study Material*_
LOCATION:Venue to be confirmed
END:VEVENT
END:VCALENDAR
