BEGIN:VCALENDAR
VERSION:2.0
PRODID:-//Talks.cam//talks.cam.ac.uk//
X-WR-CALNAME:Talks.cam
BEGIN:VEVENT
SUMMARY:Salesforce Data-Architecture-And-Management-Designer PDF Dumps wit
 h Guaranteed Success- CertsWay - Speaker to be confirmed
DTSTART:20200612T100000Z
DTEND:20200612T110000Z
UID:TALK149242@talks.cam.ac.uk
CONTACT:DELETED
DESCRIPTION:Salesforce Data-Architecture-And-Management-Designer Exam Dump
 s | Data-Architecture-And-Management-Designer Dumps PDF | Data-Architectur
 e-And-Management-Designer PDF Dumps | Data-Architecture-And-Management-Des
 igner PDF Questions | Data-Architecture-And-Management-Designer Braindumps
  | Data-Architecture-And-Management-Designer Practice Test | Data Architec
 ture And Management Designer Exam Exam Questions PDF | Data-Architecture-A
 nd-Management-Designer Simulation Questions | Data-Architecture-And-Manage
 ment-Designer Cheat Sheet | Salesforce Data Architecture and Management De
 signer Study Material\n\n*Success in first attempt in Salesforce Data-Arch
 itecture-And-Management-Designer with CertsWay valid Data-Architecture-And
 -Management-Designer questions pdf dumps.*\n\n_We promise you that now you
  don't have to get worried about the Data-Architecture-And-Management-Desi
 gner exam you can now score 100% in the Salesforce Data Architecture and M
 anagement Designer exam with CertsWay valid Data-Architecture-And-Manageme
 nt-Designer questions pdf dumps._\n\nAll you need is to study with our bes
 t selective material for your Data Architecture And Management Designer Ex
 am as CertsWay guarantee your success in Salesforce "Data-Architecture-And
 -Management-Designer questions pdf dumps":http://certsway.com/Data-Archite
 cture-And-Management-Designer-dumps-pdf/ with best marks without any hesit
 ation in Salesforce Data Architecture and Management Designer exam with us
 . We provide you best as well as safe and valid Data-Architecture-And-Mana
 gement-Designer questions pdf dumps to get success. A common reason behind
  failure is that candidates don't know where and how to get valid Salesfor
 ce Data-Architecture-And-Management-Designer questions pdf dumps to get su
 ccess guaranteed. They waste their money as well as precious time on irrel
 evant questions for Data Architecture And Management Designer Exam but Cer
 tsWay gives you 100% valid and coming Data-Architecture-And-Management-Des
 igner questions pdf dumps to get success in the very first attempt. We hav
 e best and valid Salesforce Data-Architecture-And-Management-Designer ques
 tions pdf dumps for you and also have easy to understand features. If you 
 get CertsWay best and valid Data-Architecture-And-Management-Designer ques
 tions pdf dumps. We give you selective Data-Architecture-And-Management-De
 signer questions pdf dumps for your Salesforce Data Architecture and Manag
 ement Designer exam guaranteed. We give you selective questions to get the
  best results. Salesforce Data-Architecture-And-Management-Designer questi
 ons pdf dumps for your Salesforce Data Architecture and Management Designe
 r. We have the best Data-Architecture-And-Management-Designer questions pd
 f dumps in the form of pdf that is easily transferable and has up to date 
 features for free in it. Get the best marks with the Salesforce Data Archi
 tecture and Management Designer exam with our best selective Data-Architec
 ture-And-Management-Designer questions pdf dumps.\n\n*Where to get valid S
 alesforce Data-Architecture-And-Management-Designer questions pdf dumps?*\
 n\nLet me discuss with you today an important issue that students waste th
 eir time and money on irrelevant Data-Architecture-And-Management-Designer
  questions pdf dumps which are unreal. If you need the best marks and guar
 anteed success in the Salesforce Data Architecture and Management Designer
  exam all you need is real and valid Data-Architecture-And-Management-Desi
 gner questions pdf dumps provided from best CertsWay dumps provider. We ha
 ve a number of qualified professionals that give you mind-blowing Data-Arc
 hitecture-And-Management-Designer questions pdf dumps and also they give y
 ou guaranteed success in a shorter time. They also provide you free update
 s for your Data-Architecture-And-Management-Designer questions pdf dumps s
 o you never miss a single question. CertsWay professionals and certified s
 tudents claim you that they have real coming Data-Architecture-And-Managem
 ent-Designer questions pdf dumps that bring you the best results. If you n
 eed real coming Salesforce Data-Architecture-And-Management-Designer quest
 ions pdf dumps! Get in touch with CertsWay success leader to get the best 
 in Salesforce Data Architecture and Management Designer exam.\n\n*Compare 
 CertsWay Salesforce Data-Architecture-And-Management-Designer questions pd
 f dumps with others:*\n\nWe are fully satisfied with our amazing and actua
 l coming selective Salesforce Data-Architecture-And-Management-Designer qu
 estions pdf dumps for you that have validity and ability to bring you the 
 best results. We are working to get you success in Data Architecture And M
 anagement Designer Exam with best and valid "Salesforce Data-Architecture-
 And-Management-Designer questions pdf dumps":http://certsway.com/Data-Arch
 itecture-And-Management-Designer-dumps-pdf/. Our professionals offer you o
 nly those questions that are actually coming in your Salesforce Data Archi
 tecture and Management Designer exam guaranteed with CertsWay perfect guid
 ance and really up to date valid Data-Architecture-And-Management-Designer
  questions pdf dumps exam. You can even compare our Data-Architecture-And-
 Management-Designer questions pdf dumps with others so you can choose the 
 best as well as risk-free decision for getting your aim and 100% success i
 n Salesforce Data-Architecture-And-Management-Designer questions pdf dumps
  exam with us. We have a list of qualified professionals who are working d
 ay and night to make your success guaranteed in the very first attempt in 
 Salesforce Data Architecture and Management Designer exam with CertsWay gu
 idance.\n\n*CertsWay has:*\n\n*More than 200+ instructors:*\n\nWe have a n
 umber of instructors available to get you best and 100% results in the Sal
 esforce Data-Architecture-And-Management-Designer exam. We have the best a
 nd valid Data-Architecture-And-Management-Designer questions pdf dumps for
  you with the support of 200+ instructors.\n\n*Qualified professionals:*\n
 \nCertsWay has the best professionals who are looking to serve candidates 
 with most coming Data-Architecture-And-Management-Designer questions pdf d
 umps for you to get 100% success in Salesforce Data Architecture and Manag
 ement Designer exam.\n\n*Valid and best Data-Architecture-And-Management-D
 esigner questions pdf dumps:*\n\nWe have best and valid Data-Architecture-
 And-Management-Designer questions pdf dumps for you that are known best an
 d found helpful in career leading campaigns. We serve you with Coming and 
 real Data-Architecture-And-Management-Designer questions pdf dumps.\n\n*Ge
 tting the best results from the last 15+ years:*\n\nOur braindumps are mos
 t helpful and we are serving our candidates from the last 15 years. Yes\, 
 we have got amazing results in the Salesforce Data-Architecture-And-Manage
 ment-Designer exam.\n\n*CertsWay is giving you:*\n\n*Free updates:*\n\nCer
 tsWay has most coming Data-Architecture-And-Management-Designer questions 
 pdf dumps for the success in Salesforce Data Architecture and Management D
 esigner exam and also gives you free updates of Salesforce Data-Architectu
 re-And-Management-Designer questions pdf dumps for up to 90+ days fully fr
 ee so you get the best for your Data Architecture And Management Designer 
 Exam with CertsWay.\n\n*Free demo:*\n\nGet your free demo from CertsWay ga
 teway to success. You can get a free Data-Architecture-And-Management-Desi
 gner "questions pdf dumps":http://certsway.com/ free demo so you can make 
 a better decision. We are not here to make money but to serve you with bes
 t and valid Salesforce Data-Architecture-And-Management-Designer questions
  pdf dumps.\n\n_*Salesforce Data-Architecture-And-Management-Designer Exam
  Dumps | Data-Architecture-And-Management-Designer Dumps PDF | Data-Archit
 ecture-And-Management-Designer PDF Dumps | Data-Architecture-And-Managemen
 t-Designer PDF Questions | Data-Architecture-And-Management-Designer Brain
 dumps | Data-Architecture-And-Management-Designer Practice Test | Data Arc
 hitecture And Management Designer Exam Exam Questions PDF | Data-Architect
 ure-And-Management-Designer Simulation Questions | Data-Architecture-And-M
 anagement-Designer Cheat Sheet | Salesforce Data Architecture and Manageme
 nt Designer Study Material*_
LOCATION:Venue to be confirmed
END:VEVENT
END:VCALENDAR
