BEGIN:VCALENDAR
VERSION:2.0
PRODID:-//Talks.cam//talks.cam.ac.uk//
X-WR-CALNAME:Talks.cam
BEGIN:VEVENT
SUMMARY:Google Professional-Data-Engineer PDF Dumps with Guaranteed Succes
 s- CertsWay - Speaker to be confirmed
DTSTART:20200612T100000Z
DTEND:20200612T110000Z
UID:TALK149281@talks.cam.ac.uk
CONTACT:DELETED
DESCRIPTION:Google Professional-Data-Engineer Exam Dumps | Professional-Da
 ta-Engineer Dumps PDF | Professional-Data-Engineer PDF Dumps | Professiona
 l-Data-Engineer PDF Questions | Professional-Data-Engineer Braindumps | Pr
 ofessional-Data-Engineer Practice Test | Google Cloud Data Engineer Profes
 sional Exam Questions PDF | Professional-Data-Engineer Simulation Question
 s | Professional-Data-Engineer Cheat Sheet | Google Cloud Certified Study 
 Material\n\n*Success in first attempt in Google Professional-Data-Engineer
  with CertsWay valid Professional-Data-Engineer questions pdf dumps.*\n\n_
 We promise you that now you don't have to get worried about the Profession
 al-Data-Engineer exam you can now score 100% in the Google Cloud Certified
  exam with CertsWay valid Professional-Data-Engineer questions pdf dumps._
 \n\nAll you need is to study with our best selective material for your Goo
 gle Cloud Data Engineer Professional as CertsWay guarantee your success in
  Google "Professional-Data-Engineer questions pdf dumps":http://certsway.c
 om/Professional-Data-Engineer-dumps-pdf/ with best marks without any hesit
 ation in Google Cloud Certified exam with us. We provide you best as well 
 as safe and valid Professional-Data-Engineer questions pdf dumps to get su
 ccess. A common reason behind failure is that candidates don't know where 
 and how to get valid Google Professional-Data-Engineer questions pdf dumps
  to get success guaranteed. They waste their money as well as precious tim
 e on irrelevant questions for Google Cloud Data Engineer Professional but 
 CertsWay gives you 100% valid and coming Professional-Data-Engineer questi
 ons pdf dumps to get success in the very first attempt. We have best and v
 alid Google Professional-Data-Engineer questions pdf dumps for you and als
 o have easy to understand features. If you get CertsWay best and valid Pro
 fessional-Data-Engineer questions pdf dumps. We give you selective Profess
 ional-Data-Engineer questions pdf dumps for your Google Cloud Certified ex
 am guaranteed. We give you selective questions to get the best results. Go
 ogle Professional-Data-Engineer questions pdf dumps for your Google Cloud 
 Certified. We have the best Professional-Data-Engineer questions pdf dumps
  in the form of pdf that is easily transferable and has up to date feature
 s for free in it. Get the best marks with the Google Cloud Certified exam 
 with our best selective Professional-Data-Engineer questions pdf dumps.\n\
 n*Where to get valid Google Professional-Data-Engineer questions pdf dumps
 ?*\n\nLet me discuss with you today an important issue that students waste
  their time and money on irrelevant Professional-Data-Engineer questions p
 df dumps which are unreal. If you need the best marks and guaranteed succe
 ss in the Google Cloud Certified exam all you need is real and valid Profe
 ssional-Data-Engineer questions pdf dumps provided from best CertsWay dump
 s provider. We have a number of qualified professionals that give you mind
 -blowing Professional-Data-Engineer questions pdf dumps and also they give
  you guaranteed success in a shorter time. They also provide you free upda
 tes for your Professional-Data-Engineer questions pdf dumps so you never m
 iss a single question. CertsWay professionals and certified students claim
  you that they have real coming Professional-Data-Engineer questions pdf d
 umps that bring you the best results. If you need real coming Google Profe
 ssional-Data-Engineer questions pdf dumps! Get in touch with CertsWay succ
 ess leader to get the best in Google Cloud Certified exam.\n\n*Compare Cer
 tsWay Google Professional-Data-Engineer questions pdf dumps with others:*\
 n\nWe are fully satisfied with our amazing and actual coming selective Goo
 gle Professional-Data-Engineer questions pdf dumps for you that have valid
 ity and ability to bring you the best results. We are working to get you s
 uccess in Google Cloud Data Engineer Professional with best and valid "Goo
 gle Professional-Data-Engineer questions pdf dumps":http://certsway.com/Pr
 ofessional-Data-Engineer-dumps-pdf/. Our professionals offer you only thos
 e questions that are actually coming in your Google Cloud Certified exam g
 uaranteed with CertsWay perfect guidance and really up to date valid Profe
 ssional-Data-Engineer questions pdf dumps exam. You can even compare our P
 rofessional-Data-Engineer questions pdf dumps with others so you can choos
 e the best as well as risk-free decision for getting your aim and 100% suc
 cess in Google Professional-Data-Engineer questions pdf dumps exam with us
 . We have a list of qualified professionals who are working day and night 
 to make your success guaranteed in the very first attempt in Google Cloud 
 Certified exam with CertsWay guidance.\n\n*CertsWay has:*\n\n*More than 20
 0+ instructors:*\n\nWe have a number of instructors available to get you b
 est and 100% results in the Google Professional-Data-Engineer exam. We hav
 e the best and valid Professional-Data-Engineer questions pdf dumps for yo
 u with the support of 200+ instructors.\n\n*Qualified professionals:*\n\nC
 ertsWay has the best professionals who are looking to serve candidates wit
 h most coming Professional-Data-Engineer questions pdf dumps for you to ge
 t 100% success in Google Cloud Certified exam.\n\n*Valid and best Professi
 onal-Data-Engineer questions pdf dumps:*\n\nWe have best and valid Profess
 ional-Data-Engineer questions pdf dumps for you that are known best and fo
 und helpful in career leading campaigns. We serve you with Coming and real
  Professional-Data-Engineer questions pdf dumps.\n\n*Getting the best resu
 lts from the last 15+ years:*\n\nOur braindumps are most helpful and we ar
 e serving our candidates from the last 15 years. Yes\, we have got amazing
  results in the Google Professional-Data-Engineer exam.\n\n*CertsWay is gi
 ving you:*\n\n*Free updates:*\n\nCertsWay has most coming Professional-Dat
 a-Engineer questions pdf dumps for the success in Google Cloud Certified e
 xam and also gives you free updates of Google Professional-Data-Engineer q
 uestions pdf dumps for up to 90+ days fully free so you get the best for y
 our Google Cloud Data Engineer Professional with CertsWay.\n\n*Free demo:*
 \n\nGet your free demo from CertsWay gateway to success. You can get a fre
 e Professional-Data-Engineer "questions pdf dumps":http://certsway.com/ fr
 ee demo so you can make a better decision. We are not here to make money b
 ut to serve you with best and valid Google Professional-Data-Engineer ques
 tions pdf dumps.\n\n_*Google Professional-Data-Engineer Exam Dumps | Profe
 ssional-Data-Engineer Dumps PDF | Professional-Data-Engineer PDF Dumps | P
 rofessional-Data-Engineer PDF Questions | Professional-Data-Engineer Brain
 dumps | Professional-Data-Engineer Practice Test | Google Cloud Data Engin
 eer Professional Exam Questions PDF | Professional-Data-Engineer Simulatio
 n Questions | Professional-Data-Engineer Cheat Sheet | Google Cloud Certif
 ied Study Material*_
LOCATION:Venue to be confirmed
END:VEVENT
END:VCALENDAR
