BEGIN:VCALENDAR
VERSION:2.0
PRODID:-//Talks.cam//talks.cam.ac.uk//
X-WR-CALNAME:Talks.cam
BEGIN:VEVENT
SUMMARY:Splunk SPLK-1002 PDF Dumps Splunk Core Certified Power User Test- 
 CertsWay - Speaker to be confirmed
DTSTART:20200612T100000Z
DTEND:20200612T110000Z
UID:TALK149299@talks.cam.ac.uk
CONTACT:DELETED
DESCRIPTION:Splunk SPLK-1002 Exam Dumps | SPLK-1002 Dumps PDF | SPLK-1002 
 PDF Dumps | SPLK-1002 PDF Questions | SPLK-1002 Braindumps | SPLK-1002 Pra
 ctice Test | Splunk Core Certified Power User Exam Exam Questions PDF | SP
 LK-1002 Simulation Questions | SPLK-1002 Cheat Sheet | Splunk Core Certifi
 ed Power User Study Material\n\n*Success in first attempt in Splunk SPLK-1
 002 with CertsWay valid SPLK-1002 questions pdf dumps.*\n\n_We promise you
  that now you don't have to get worried about the SPLK-1002 exam you can n
 ow score 100% in the Splunk Core Certified Power User exam with CertsWay v
 alid SPLK-1002 questions pdf dumps._\n\nAll you need is to study with our 
 best selective material for your Splunk Core Certified Power User Exam as 
 CertsWay guarantee your success in Splunk "SPLK-1002 questions pdf dumps":
 http://certsway.com/SPLK-1002-dumps-pdf/ with best marks without any hesit
 ation in Splunk Core Certified Power User exam with us. We provide you bes
 t as well as safe and valid SPLK-1002 questions pdf dumps to get success. 
 A common reason behind failure is that candidates don't know where and how
  to get valid Splunk SPLK-1002 questions pdf dumps to get success guarante
 ed. They waste their money as well as precious time on irrelevant question
 s for Splunk Core Certified Power User Exam but CertsWay gives you 100% va
 lid and coming SPLK-1002 questions pdf dumps to get success in the very fi
 rst attempt. We have best and valid Splunk SPLK-1002 questions pdf dumps f
 or you and also have easy to understand features. If you get CertsWay best
  and valid SPLK-1002 questions pdf dumps. We give you selective SPLK-1002 
 questions pdf dumps for your Splunk Core Certified Power User exam guarant
 eed. We give you selective questions to get the best results. Splunk SPLK-
 1002 questions pdf dumps for your Splunk Core Certified Power User. We hav
 e the best SPLK-1002 questions pdf dumps in the form of pdf that is easily
  transferable and has up to date features for free in it. Get the best mar
 ks with the Splunk Core Certified Power User exam with our best selective 
 SPLK-1002 questions pdf dumps.\n\n*Where to get valid Splunk SPLK-1002 que
 stions pdf dumps?*\n\nLet me discuss with you today an important issue tha
 t students waste their time and money on irrelevant SPLK-1002 questions pd
 f dumps which are unreal. If you need the best marks and guaranteed succes
 s in the Splunk Core Certified Power User exam all you need is real and va
 lid SPLK-1002 questions pdf dumps provided from best CertsWay dumps provid
 er. We have a number of qualified professionals that give you mind-blowing
  SPLK-1002 questions pdf dumps and also they give you guaranteed success i
 n a shorter time. They also provide you free updates for your SPLK-1002 qu
 estions pdf dumps so you never miss a single question. CertsWay profession
 als and certified students claim you that they have real coming SPLK-1002 
 questions pdf dumps that bring you the best results. If you need real comi
 ng Splunk SPLK-1002 questions pdf dumps! Get in touch with CertsWay succes
 s leader to get the best in Splunk Core Certified Power User exam.\n\n*Com
 pare CertsWay Splunk SPLK-1002 questions pdf dumps with others:*\n\nWe are
  fully satisfied with our amazing and actual coming selective Splunk SPLK-
 1002 questions pdf dumps for you that have validity and ability to bring y
 ou the best results. We are working to get you success in Splunk Core Cert
 ified Power User Exam with best and valid "Splunk SPLK-1002 questions pdf 
 dumps":http://certsway.com/SPLK-1002-dumps-pdf/. Our professionals offer y
 ou only those questions that are actually coming in your Splunk Core Certi
 fied Power User exam guaranteed with CertsWay perfect guidance and really 
 up to date valid SPLK-1002 questions pdf dumps exam. You can even compare 
 our SPLK-1002 questions pdf dumps with others so you can choose the best a
 s well as risk-free decision for getting your aim and 100% success in Splu
 nk SPLK-1002 questions pdf dumps exam with us. We have a list of qualified
  professionals who are working day and night to make your success guarante
 ed in the very first attempt in Splunk Core Certified Power User exam with
  CertsWay guidance.\n\n*CertsWay has:*\n\n*More than 200+ instructors:*\n\
 nWe have a number of instructors available to get you best and 100% result
 s in the Splunk SPLK-1002 exam. We have the best and valid SPLK-1002 quest
 ions pdf dumps for you with the support of 200+ instructors.\n\n*Qualified
  professionals:*\n\nCertsWay has the best professionals who are looking to
  serve candidates with most coming SPLK-1002 questions pdf dumps for you t
 o get 100% success in Splunk Core Certified Power User exam.\n\n*Valid and
  best SPLK-1002 questions pdf dumps:*\n\nWe have best and valid SPLK-1002 
 questions pdf dumps for you that are known best and found helpful in caree
 r leading campaigns. We serve you with Coming and real SPLK-1002 questions
  pdf dumps.\n\n*Getting the best results from the last 15+ years:*\n\nOur 
 braindumps are most helpful and we are serving our candidates from the las
 t 15 years. Yes\, we have got amazing results in the Splunk SPLK-1002 exam
 .\n\n*CertsWay is giving you:*\n\n*Free updates:*\n\nCertsWay has most com
 ing SPLK-1002 questions pdf dumps for the success in Splunk Core Certified
  Power User exam and also gives you free updates of Splunk SPLK-1002 quest
 ions pdf dumps for up to 90+ days fully free so you get the best for your 
 Splunk Core Certified Power User Exam with CertsWay.\n\n*Free demo:*\n\nGe
 t your free demo from CertsWay gateway to success. You can get a free SPLK
 -1002 "questions pdf dumps":http://certsway.com/ free demo so you can make
  a better decision. We are not here to make money but to serve you with be
 st and valid Splunk SPLK-1002 questions pdf dumps.\n\n_*Splunk SPLK-1002 E
 xam Dumps | SPLK-1002 Dumps PDF | SPLK-1002 PDF Dumps | SPLK-1002 PDF Ques
 tions | SPLK-1002 Braindumps | SPLK-1002 Practice Test | Splunk Core Certi
 fied Power User Exam Exam Questions PDF | SPLK-1002 Simulation Questions |
  SPLK-1002 Cheat Sheet | Splunk Core Certified Power User Study Material*_
LOCATION:Venue to be confirmed
END:VEVENT
END:VCALENDAR
