BEGIN:VCALENDAR
VERSION:2.0
PRODID:-//Talks.cam//talks.cam.ac.uk//
X-WR-CALNAME:Talks.cam
BEGIN:VEVENT
SUMMARY:Amazon Amazon Foundational CLF-C01 Practice PDF Dumps - Speaker to
  be confirmed
DTSTART:20200612T100000Z
DTEND:20200612T110000Z
UID:TALK149401@talks.cam.ac.uk
CONTACT:DELETED
DESCRIPTION:*Get 100% updated Amazon CLF-C01 exam questions with 100% succ
 ess guarantee. Prepare your Amazon Foundational CLF-C01 exam confidently.*
 \nThe CLF-C01 exam is one of the important certification exams that can on
 ly be passed if you put your efforts into the preparation. To pass the Ama
 zon Foundational "CLF-C01 exam questions":https://certsway.com/CLF-C01-dum
 ps-pdf/\, you will have to use a reliable preparation material that contai
 ns all the relevant information of the Amazon CLF-C01 exam questions. Your
  success depends upon the preparation material you use so\, choose a prope
 r learning material for your preparation. You can find many websites that 
 claim to offer the best AWS Certified Cloud Practitioner preparation mater
 ial\, but CertsWay is the recommended one. Thousands of professionals have
  passed their Amazon CLF-C01 exam questions with the help of CertsWay CLF-
 C01 exam learning material.\n\n*Amazon CLF-C01 Exam Questions Dumps PDF Fo
 rmat*\nThe format of the Amazon CLF-C01 exam questions has real exam quest
 ions with their correct answers that will help you in understanding the co
 ncepts of the Amazon Foundational *CLF-C01 exam questions* topics. Each an
 d every topic is covered in the Amazon CLF-C01 exam questions. pdf and you
  can learn them anywhere anytime because the pdf file is compatible with a
 ll devices. You can download the CLF-C01 exam questions dumps pdf in your 
 PC\, laptop\, Mac\, tablet\, and smartphone to have access to it anytime. 
 Learn all the questions and answers to ensure your success in the AWS Cert
 ified Cloud Practitioner CLF-C01 exam questions.\n\n*Actual and Verified A
 mazon CLF-C01 Exam Questions Dumps*\n\nCertsWay Amazon "CLF-C01 exam quest
 ions":https://certsway.com/CLF-C01-dumps-pdf/ learning dumps are prepared 
 by the experts at CertsWay according to your requirements. The experts hav
 e also verified the Amazon CLF-C01 exam questions dumps which shows that t
 hey are 100% valid for the preparation of Amazon Foundational CLF-C01 exam
  questions.\n\n*Amazon CLF-C01 Exam Questions With Free Updates for Three 
 Months*\n\nYou will get the most recent Amazon CLF-C01 exam questions dump
 s according to the latest syllabus of the CLF-C01 exam questions. As the A
 mazon CLF-C01 exam syllabus changes with time so\, you need to prepare acc
 ording to the latest Amazon Foundational syllabus. CertsWay offers the upd
 ates as soon as they are announced in the Amazon CLF-C01 exam questions\, 
 and you will not have to pay any extra charges for the updates within thre
 e months of your payment.\n\n*Free Amazon CLF-C01 Exam Questions Dumps PDF
  Demo*\n\nYou can check the Amazon CLF-C01 exam questions preparation dump
 s before making your purchase. The free demo is offered at CertsWay to mak
 e you satisfied with the AWS Certified Cloud Practitioner CLF-C01 exam que
 stions preparation material before your payment. The demo will give you an
  idea about the Amazon certification. dumps so that if you feel satisfied 
 with that you can place your order.\n\n*100% Refund Guarantee*\n\nTo remov
 e your stress about the success in the Amazon CLF-C01 exam questions\, Cer
 tsWay promises you that you will pass your "Amazon CLF-C01 exam questions"
 :https://certsway.com/CLF-C01-dumps-pdf/ in just one attempt. Use the CLF-
 C01 exam questions preparation dumps for two weeks and take your Amazon Fo
 undational CLF-C01 *exam questions* on time then you will get your desired
  marks. If you could not be satisfied with CertsWay then you can claim a f
 ull payment refund. Your payment will be sent back to you according to the
  refund policy of CertsWay.\n\n*20% Exciting Discount Offer*\n\n*CertsWay*
  is currently offering actual exam dumpsLinks to an external site. with an
  exciting discount of 20% on your purchase of CLF-C01 exam questions pdf. 
 Get yours now and prepare for your CLF-C01 exam questions to become a cert
 ified professional. Use coupon code *"SAVE20"* on checkout to avail the 20
 % exciting discount offer.\n\n____________________________________________
 ___________________________________________\n\n_*Amazon CLF-C01 Exam Dumps
  | CLF-C01 Dumps PDF | CLF-C01 PDF Dumps | CLF-C01 PDF Questions | CLF-C01
  Braindumps | CLF-C01 Practice Test | AWS Certified Cloud Practitioner Exa
 m Questions PDF | CLF-C01 Simulation Questions | CLF-C01 Cheat Sheet | Ama
 zon Foundational Study Material*_
LOCATION:Venue to be confirmed
END:VEVENT
END:VCALENDAR
