BEGIN:VCALENDAR
VERSION:2.0
PRODID:-//Talks.cam//talks.cam.ac.uk//
X-WR-CALNAME:Talks.cam
BEGIN:VEVENT
SUMMARY:How to Prepare for Exin EXIN DevOps DEVOPSF PDF Dumps - Speaker to
  be confirmed
DTSTART:20200612T100000Z
DTEND:20200612T110000Z
UID:TALK149410@talks.cam.ac.uk
CONTACT:DELETED
DESCRIPTION:*Get 100% updated Exin DEVOPSF exam questions with 100% succes
 s guarantee. Prepare your EXIN DevOps DEVOPSF exam confidently.*\nThe DEVO
 PSF exam is one of the important certification exams that can only be pass
 ed if you put your efforts into the preparation. To pass the EXIN DevOps "
 DEVOPSF exam questions":https://certsway.com/DEVOPSF-dumps-pdf/\, you will
  have to use a reliable preparation material that contains all the relevan
 t information of the Exin DEVOPSF exam questions. Your success depends upo
 n the preparation material you use so\, choose a proper learning material 
 for your preparation. You can find many websites that claim to offer the b
 est EXIN DevOps Foundation preparation material\, but CertsWay is the reco
 mmended one. Thousands of professionals have passed their Exin DEVOPSF exa
 m questions with the help of CertsWay DEVOPSF exam learning material.\n\n*
 Exin DEVOPSF Exam Questions Dumps PDF Format*\nThe format of the Exin DEVO
 PSF exam questions has real exam questions with their correct answers that
  will help you in understanding the concepts of the EXIN DevOps *DEVOPSF e
 xam questions* topics. Each and every topic is covered in the Exin DEVOPSF
  exam questions. pdf and you can learn them anywhere anytime because the p
 df file is compatible with all devices. You can download the DEVOPSF exam 
 questions dumps pdf in your PC\, laptop\, Mac\, tablet\, and smartphone to
  have access to it anytime. Learn all the questions and answers to ensure 
 your success in the EXIN DevOps Foundation DEVOPSF exam questions.\n\n*Act
 ual and Verified Exin DEVOPSF Exam Questions Dumps*\n\nCertsWay Exin "DEVO
 PSF exam questions":https://certsway.com/DEVOPSF-dumps-pdf/ learning dumps
  are prepared by the experts at CertsWay according to your requirements. T
 he experts have also verified the Exin DEVOPSF exam questions dumps which 
 shows that they are 100% valid for the preparation of EXIN DevOps DEVOPSF 
 exam questions.\n\n*Exin DEVOPSF Exam Questions With Free Updates for Thre
 e Months*\n\nYou will get the most recent Exin DEVOPSF exam questions dump
 s according to the latest syllabus of the DEVOPSF exam questions. As the E
 xin DEVOPSF exam syllabus changes with time so\, you need to prepare accor
 ding to the latest EXIN DevOps syllabus. CertsWay offers the updates as so
 on as they are announced in the Exin DEVOPSF exam questions\, and you will
  not have to pay any extra charges for the updates within three months of 
 your payment.\n\n*Free Exin DEVOPSF Exam Questions Dumps PDF Demo*\n\nYou 
 can check the Exin DEVOPSF exam questions preparation dumps before making 
 your purchase. The free demo is offered at CertsWay to make you satisfied 
 with the EXIN DevOps Foundation DEVOPSF exam questions preparation materia
 l before your payment. The demo will give you an idea about the Exin certi
 fication. dumps so that if you feel satisfied with that you can place your
  order.\n\n*100% Refund Guarantee*\n\nTo remove your stress about the succ
 ess in the Exin DEVOPSF exam questions\, CertsWay promises you that you wi
 ll pass your "Exin DEVOPSF exam questions":https://certsway.com/DEVOPSF-du
 mps-pdf/ in just one attempt. Use the DEVOPSF exam questions preparation d
 umps for two weeks and take your EXIN DevOps DEVOPSF *exam questions* on t
 ime then you will get your desired marks. If you could not be satisfied wi
 th CertsWay then you can claim a full payment refund. Your payment will be
  sent back to you according to the refund policy of CertsWay.\n\n*20% Exci
 ting Discount Offer*\n\n*CertsWay* is currently offering actual exam dumps
 Links to an external site. with an exciting discount of 20% on your purcha
 se of DEVOPSF exam questions pdf. Get yours now and prepare for your DEVOP
 SF exam questions to become a certified professional. Use coupon code *"SA
 VE20"* on checkout to avail the 20% exciting discount offer.\n\n__________
 __________________________________________________________________________
 ___\n\n_*Exin DEVOPSF Exam Dumps | DEVOPSF Dumps PDF | DEVOPSF PDF Dumps |
  DEVOPSF PDF Questions | DEVOPSF Braindumps | DEVOPSF Practice Test | EXIN
  DevOps Foundation Exam Questions PDF | DEVOPSF Simulation Questions | DEV
 OPSF Cheat Sheet | EXIN DevOps Study Material*_
LOCATION:Venue to be confirmed
END:VEVENT
END:VCALENDAR
