BEGIN:VCALENDAR
VERSION:2.0
PRODID:-//Talks.cam//talks.cam.ac.uk//
X-WR-CALNAME:Talks.cam
BEGIN:VEVENT
SUMMARY:How to Prepare for Amazon Amazon Specialty BDS-C00 PDF Dumps - Spe
 aker to be confirmed
DTSTART:20200612T100000Z
DTEND:20200612T110000Z
UID:TALK149413@talks.cam.ac.uk
CONTACT:DELETED
DESCRIPTION:The AWS Certified Big Data €“ Specialty BDS-C00 exam is a 
 prominent certification exam intended for the IT professionals who want to
  enhance their career by becoming an Amazon-certified professional. As the
  competition in the IT industry is very tough so it is not easy to pass th
 e Amazon BDS-C00 exam pdf and this is why many candidates fail in the Amaz
 on BDS-C00 exam pdf. The reason behind their failure is not that they did 
 not make efforts to pass the AWS Certified Big Data €“ Specialty BDS-C
 00 exam pdf but they did not have the right learning material for preparat
 ion. It is really critical to use a preparation material that contains all
  the information about your Amazon Specialty BDS-C00 exam pdf so that you 
 can understand your exam well. Many professionals choose to use CertsWay p
 reparation material to get prepared for their Amazon BDS-C00 exam pdf beca
 use CertsWay focuses on the requirements of the candidates to pass the "Am
 azon BDS-C00 exam pdf":https://certsway.com/BDS-C00-dumps-pdf/\n\n*Feature
 s of the CertsWay Amazon BDS-C00 Exam PDF Preparation Material*\n\nCertsWa
 y preparation material for the AWS Certified Big Data €“ Specialty BDS
 -C00 exam pdf format with a user-friendly interface that will help you in 
 your BDS-C00 exam pdf preparation.\n\n*Amazon BDS-C00 Exam PDF Format*\n\n
 Amazon BDS-C00 learning material is available in the PDF format which is v
 ery useful as you can download it in any device including PC\, laptop\, Ma
 c\, tablet\, and smartphone. It will help you to get access to the BDS-C00
  exam pdf dumps anytime through your smartphone. The Amazon BDS-C00 exam p
 df files of the preparation material have real exam questions and answers 
 that are arranged very well for easy understanding. If you focus on all th
 e questions and their answers then you will be able to pass the Amazon Spe
 cialty BDS-C00 exam pdf with excellent scores. The Amazon experts have pre
 pared this preparation material according to the actual Amazon BDS-C00 exa
 m pdf format.\n\n*Updated and Verified Amazon BDS-C00 Exam PDF Preparation
  Material*\n\nCertsWay offers the questions according to the latest syllab
 us of the Amazon Specialty exam and also provide accurate answers to the q
 uestions. Amazon BDS-C00 exam pdf preparation material is 100% valid to us
 e because it is prepared and verified by the experts of the IT industry.\n
 \n*Try Your Free Amazon BDS-C00 Exam PDF Dumps Demo*\n\nCertsWay wants you
  to buy the Amazon BDS-C00 exam pdf preparation material only when you fee
 l satisfied with it. For this purpose\, CertsWay offers you a free "Amazon
  BDS-C00 exam pdf":https://certsway.com/BDS-C00-dumps-pdf/ dumps demo to c
 heck before deciding for the purchase of AWS Certified Big Data €“ Spe
 cialty BDS-C00 exam pdf dumps. The demo is absolutely free and clearly des
 cribes the features of the BDS-C00 dumps. Though the complete product has 
 more features however the BDS-C00 exam pdf dumps demo will help you to mak
 e a better decision.\n\n*Free Amazon BDS-C00 Exam PDF Dumps Updates for Th
 ree Months*\n\nNot only CertsWay offer the latest preparation material for
  the Amazon Specialty exam preparation but it also takes the responsibilit
 y to provide you the new updates after your purchase. Amazon BDS-C00 exam 
 pdf keeps on changing and you have to stay updated with them. You will not
  have to pay for the updates if they are announced within the three months
  of your payment.\n\n*100% Money-Back Guarantee*\n\nCertsWay assures you t
 hat you will pass your Amazon BDS-C00 exam pdf at your first try with outs
 tanding results. Prepare for the AWS Certified Big Data €“ Specialty B
 DS-C00 exam pdf for at least two weeks and you will pass your Amazon Speci
 alty exam. Don€™t make mistakes like leaving the BDS-C00 exam. If you 
 could not pass your BDS-C00 exam pdf at the first attempt then you can ask
  for a refund.\n\n*Enjoy 20% Discount On Amazon BDS-C00 Exam PDF Dumps*\n\
 nCertsWay.com is offering you a discount of 20% for your purchase of Amazo
 n BDS-C00 "exam pdf":https://certsway.com/BDS-C00-dumps-pdf/ dumps. Order 
 for your BDS-C00 exam pdf dumps now and enjoy the discount of 20% by using
  the coupon code €œSAVE20€ on the checkout page.
LOCATION:Venue to be confirmed
END:VEVENT
END:VCALENDAR
