BEGIN:VCALENDAR
VERSION:2.0
PRODID:-//Talks.cam//talks.cam.ac.uk//
X-WR-CALNAME:Talks.cam
BEGIN:VEVENT
SUMMARY:Professional-Cloud-Network-Engineer Free PDF Dumps Questions &amp\
 ; Answers - CertsWay.com - Speaker to be confirmed
DTSTART:20200612T100000Z
DTEND:20200612T110000Z
UID:TALK149458@talks.cam.ac.uk
CONTACT:DELETED
DESCRIPTION:*Get 100% updated Google Professional-Cloud-Network-Engineer e
 xam questions with 100% success guarantee. Prepare your Google Cloud Certi
 fied Professional-Cloud-Network-Engineer exam confidently.*\nThe Professio
 nal-Cloud-Network-Engineer exam is one of the important certification exam
 s that can only be passed if you put your efforts into the preparation. To
  pass the Google Cloud Certified "Professional-Cloud-Network-Engineer exam
  questions":https://certsway.com/Professional-Cloud-Network-Engineer-dumps
 -pdf/\, you will have to use a reliable preparation material that contains
  all the relevant information of the Google Professional-Cloud-Network-Eng
 ineer exam questions. Your success depends upon the preparation material y
 ou use so\, choose a proper learning material for your preparation. You ca
 n find many websites that claim to offer the best Professional Cloud Netwo
 rk Engineer preparation material\, but CertsWay is the recommended one. Th
 ousands of professionals have passed their Google Professional-Cloud-Netwo
 rk-Engineer exam questions with the help of CertsWay Professional-Cloud-Ne
 twork-Engineer exam learning material.\n\n*Google Professional-Cloud-Netwo
 rk-Engineer Exam Questions Dumps PDF Format*\nThe format of the Google Pro
 fessional-Cloud-Network-Engineer exam questions has real exam questions wi
 th their correct answers that will help you in understanding the concepts 
 of the Google Cloud Certified *Professional-Cloud-Network-Engineer exam qu
 estions* topics. Each and every topic is covered in the Google Professiona
 l-Cloud-Network-Engineer exam questions. pdf and you can learn them anywhe
 re anytime because the pdf file is compatible with all devices. You can do
 wnload the Professional-Cloud-Network-Engineer exam questions dumps pdf in
  your PC\, laptop\, Mac\, tablet\, and smartphone to have access to it any
 time. Learn all the questions and answers to ensure your success in the Pr
 ofessional Cloud Network Engineer Professional-Cloud-Network-Engineer exam
  questions.\n\n*Actual and Verified Google Professional-Cloud-Network-Engi
 neer Exam Questions Dumps*\n\nCertsWay Google "Professional-Cloud-Network-
 Engineer exam questions":https://certsway.com/Professional-Cloud-Network-E
 ngineer-dumps-pdf/ learning dumps are prepared by the experts at CertsWay 
 according to your requirements. The experts have also verified the Google 
 Professional-Cloud-Network-Engineer exam questions dumps which shows that 
 they are 100% valid for the preparation of Google Cloud Certified Professi
 onal-Cloud-Network-Engineer exam questions.\n\n*Google Professional-Cloud-
 Network-Engineer Exam Questions With Free Updates for Three Months*\n\nYou
  will get the most recent Google Professional-Cloud-Network-Engineer exam 
 questions dumps according to the latest syllabus of the Professional-Cloud
 -Network-Engineer exam questions. As the Google Professional-Cloud-Network
 -Engineer exam syllabus changes with time so\, you need to prepare accordi
 ng to the latest Google Cloud Certified syllabus. CertsWay offers the upda
 tes as soon as they are announced in the Google Professional-Cloud-Network
 -Engineer exam questions\, and you will not have to pay any extra charges 
 for the updates within three months of your payment.\n\n*Free Google Profe
 ssional-Cloud-Network-Engineer Exam Questions Dumps PDF Demo*\n\nYou can c
 heck the Google Professional-Cloud-Network-Engineer exam questions prepara
 tion dumps before making your purchase. The free demo is offered at CertsW
 ay to make you satisfied with the Professional Cloud Network Engineer Prof
 essional-Cloud-Network-Engineer exam questions preparation material before
  your payment. The demo will give you an idea about the Google certificati
 on. dumps so that if you feel satisfied with that you can place your order
 .\n\n*100% Refund Guarantee*\n\nTo remove your stress about the success in
  the Google Professional-Cloud-Network-Engineer exam questions\, CertsWay 
 promises you that you will pass your "Google Professional-Cloud-Network-En
 gineer exam questions":https://certsway.com/Professional-Cloud-Network-Eng
 ineer-dumps-pdf/ in just one attempt. Use the Professional-Cloud-Network-E
 ngineer exam questions preparation dumps for two weeks and take your Googl
 e Cloud Certified Professional-Cloud-Network-Engineer *exam questions* on 
 time then you will get your desired marks. If you could not be satisfied w
 ith CertsWay then you can claim a full payment refund. Your payment will b
 e sent back to you according to the refund policy of CertsWay.\n\n*20% Exc
 iting Discount Offer*\n\n*CertsWay* is currently offering actual exam dump
 sLinks to an external site. with an exciting discount of 20% on your purch
 ase of Professional-Cloud-Network-Engineer exam questions pdf. Get yours n
 ow and prepare for your Professional-Cloud-Network-Engineer exam questions
  to become a certified professional. Use coupon code *"SAVE20"* on checkou
 t to avail the 20% exciting discount offer.\n\n___________________________
 ____________________________________________________________\n\n_*Google P
 rofessional-Cloud-Network-Engineer Exam Dumps | Professional-Cloud-Network
 -Engineer Dumps PDF | Professional-Cloud-Network-Engineer PDF Dumps | Prof
 essional-Cloud-Network-Engineer PDF Questions | Professional-Cloud-Network
 -Engineer Braindumps | Professional-Cloud-Network-Engineer Practice Test |
  Professional Cloud Network Engineer Exam Questions PDF | Professional-Clo
 ud-Network-Engineer Simulation Questions | Professional-Cloud-Network-Engi
 neer Cheat Sheet | Google Cloud Certified Study Material*_
LOCATION:Venue to be confirmed
END:VEVENT
END:VCALENDAR
