BEGIN:VCALENDAR
VERSION:2.0
PRODID:-//Talks.cam//talks.cam.ac.uk//
X-WR-CALNAME:Talks.cam
BEGIN:VEVENT
SUMMARY:Surface Science Aspects of Coronavirus - Stuart Clarke\, BPI and D
 ept of Chemistry
DTSTART:20200618T103000Z
DTEND:20200618T113000Z
UID:TALK149593@talks.cam.ac.uk
CONTACT:Catherine Pearson
DESCRIPTION:Abstract not available
LOCATION:Open Plan Area\, BP Institute\, Madingley Rise CB3 0EZ
END:VEVENT
END:VCALENDAR
