BEGIN:VCALENDAR
VERSION:2.0
PRODID:-//Talks.cam//talks.cam.ac.uk//
X-WR-CALNAME:Talks.cam
BEGIN:VEVENT
SUMMARY:Identification of 20 novel breast cancer fusion genes using genome
 -wide massively parallel paired-end sequencing - Dr Philip Stephens
DTSTART:20081104T161500Z
DTEND:20081104T173000Z
UID:TALK14962@talks.cam.ac.uk
CONTACT:Scientific Meetings Co-ordinator
DESCRIPTION:Abstract not available
LOCATION:Max Perutz Lecture Theatre\, Medical Research Council (MRC) (MRC 
 Laboratory of Molecular Biol
END:VEVENT
END:VCALENDAR
