BEGIN:VCALENDAR
VERSION:2.0
PRODID:-//Talks.cam//talks.cam.ac.uk//
X-WR-CALNAME:Talks.cam
BEGIN:VEVENT
SUMMARY:COVID -19  and higher education: speakers and titles to be advised
  - 
DTSTART:20200728T080000Z
DTEND:20200728T120000Z
UID:TALK150157@talks.cam.ac.uk
CONTACT:INI IT
DESCRIPTION:
LOCATION:Seminar Room 2\, Newton Institute
END:VEVENT
END:VCALENDAR
