BEGIN:VCALENDAR
VERSION:2.0
PRODID:-//Talks.cam//talks.cam.ac.uk//
X-WR-CALNAME:Talks.cam
BEGIN:VEVENT
SUMMARY:Climate Risk and the Pandemic - Rob Engle (NYU Stern School of Bus
 iness)
DTSTART:20210506T160000Z
DTEND:20210506T170000Z
UID:TALK150295@talks.cam.ac.uk
CONTACT:CERF/CF Admin
DESCRIPTION:Abstract not available
LOCATION:Online
END:VEVENT
END:VCALENDAR
