BEGIN:VCALENDAR
VERSION:2.0
PRODID:-//Talks.cam//talks.cam.ac.uk//
X-WR-CALNAME:Talks.cam
BEGIN:VEVENT
SUMMARY:Spectroscopic-asteroseismic analysis of K2 stars in Gaia-ESO - Cla
 re Worley
DTSTART:20201125T133000Z
DTEND:20201125T140000Z
UID:TALK150391@talks.cam.ac.uk
CONTACT:Emma Curtis Lake
DESCRIPTION:Abstract not available
LOCATION: Webinar  (via Zoom online)
END:VEVENT
END:VCALENDAR
