BEGIN:VCALENDAR
VERSION:2.0
PRODID:-//Talks.cam//talks.cam.ac.uk//
X-WR-CALNAME:Talks.cam
BEGIN:VEVENT
SUMMARY:adasa - Speaker to be confirmed
DTSTART:20200829T100000Z
DTEND:20200829T110000Z
UID:TALK150829@talks.cam.ac.uk
CONTACT:95536
DESCRIPTION:https://todaynewspost.com/
LOCATION:Venue to be confirmed
END:VEVENT
END:VCALENDAR
