BEGIN:VCALENDAR
VERSION:2.0
PRODID:-//Talks.cam//talks.cam.ac.uk//
X-WR-CALNAME:Talks.cam
BEGIN:VEVENT
SUMMARY:Title to be confirmed - Speaker to be confirmed
DTSTART:20200829T100000Z
DTEND:20200829T110000Z
UID:TALK150832@talks.cam.ac.uk
CONTACT:95539
DESCRIPTION:https://www.fishstripes.com/users/todaynews/\n\nhttps://www.am
 azinavenue.com/users/todaynews/\n\nhttps://www.vivaelbirdos.com/users/toda
 ynews/\n\nhttps://www.bucsdugout.com/users/todaynews/\n\nhttps://www.redre
 porter.com/users/todaynews/\n\nhttps://www.brewcrewball.com/users/todaynew
 s/\n\nhttps://www.bleedcubbieblue.com/users/todaynews/\n\nhttps://www.true
 bluela.com/users/todaynews/\n\nhttps://www.purplerow.com/users/todaynews/\
 n\nhttps://www.mccoveychronicles.com/users/todaynews/\n\nhttps://www.gasla
 mpball.com/users/todaynews/\n\nhttps://www.azsnakepit.com/users/todaynews/
 \n\nhttps://www.pinstripealley.com/users/todaynews/\n\nhttps://www.overthe
 monster.com/users/todaynews/\n\nhttps://www.draysbay.com/users/todaynews/\
 n\nhttps://www.camdenchat.com/users/todaynews/\n\nhttps://www.bluebirdbant
 er.com/users/todaynews/\n\nhttps://www.twinkietown.com/users/todaynews/\n\
 nhttps://www.royalsreview.com/users/todaynews/\n\nhttps://www.southsidesox
 .com/users/todaynews/\n\nhttps://www.letsgotribe.com/users/todaynews/\n\nh
 ttps://www.blessyouboys.com/users/todaynews/\n\nhttps://www.crawfishboxes.
 com/users/todaynews/\n\nhttps://www.lookoutlanding.com/users/todaynews/\n\
 nhttps://www.lonestarball.com/users/todaynews/\n\nhttps://www.athleticsnat
 ion.com/users/todaynews/\n\nhttps://www.milehighreport.com/users/todaynews
 /\n\nhttps://www.silverandblackpride.com/users/todaynews/\n\nhttps://www.b
 oltsfromtheblue.com/users/todaynews/\n\nhttps://www.arrowheadpride.com/use
 rs/todaynews/\n\nhttps://www.stampedeblue.com/users/todaynews/\n\nhttps://
 www.bigcatcountry.com/users/todaynews/\n\nhttps://www.musiccitymiracles.co
 m/users/todaynews/\n\nhttps://www.battleredblog.com/users/todaynews/\n\nht
 tps://www.cincyjungle.com/users/todaynews/\n\nhttps://www.dawgsbynature.co
 m/users/todaynews/\n\nhttps://www.behindthesteelcurtain.com/users/todaynew
 s/\n\nhttps://www.baltimorebeatdown.com/users/todaynews/\n\nhttps://www.th
 ephinsider.com/users/todaynews/\n\nhttps://www.patspulpit.com/users/todayn
 ews/\n\nhttps://www.ganggreennation.com/users/todaynews/\n\nhttps://www.bu
 ffalorumblings.com/users/todaynews/\n\nhttps://www.turfshowtimes.com/users
 /todaynews/\n\nhttps://www.ninersnation.com/users/todaynews/\n\nhttps://ww
 w.revengeofthebirds.com/users/todaynews/\n\nhttps://www.fieldgulls.com/use
 rs/todaynews/\n\nhttps://www.thefalcoholic.com/users/todaynews/\n\nhttps:/
 /www.catscratchreader.com/users/todaynews/\n\nhttps://www.canalstreetchron
 icles.com/users/todaynews/\n\nhttps://www.bucsnation.com/users/todaynews/\
 n\nhttps://www.windycitygridiron.com/users/todaynews/\n\nhttps://www.daily
 norseman.com/users/todaynews/\n\nhttps://www.prideofdetroit.com/users/toda
 ynews/\n\nhttps://www.acmepackingcompany.com/users/todaynews/\n\nhttps://w
 ww.hogshaven.com/users/todaynews/\n\nhttps://www.bloggingtheboys.com/users
 /todaynews/\n\nhttps://www.bleedinggreennation.com/users/todaynews/\n\nhtt
 ps://www.bigblueview.com/users/todaynews/\n\nhttps://www.sonicsrising.com/
 users/todaynews/\n\nhttps://www.swishappeal.com/users/todaynews/\n\nhttps:
 //www.ridiculousupside.com/users/todaynews/\n\nhttps://www.sactownroyalty.
 com/users/todaynews/\n\nhttps://www.clipsnation.com/users/todaynews/\n\nht
 tps://www.silverscreenandroll.com/users/todaynews/\n\nhttps://www.goldenst
 ateofmind.com/users/todaynews/\n\nhttps://www.brightsideofthesun.com/users
 /todaynews/\n\nhttps://www.slcdunk.com/users/todaynews/\n\nhttps://www.can
 ishoopus.com/users/todaynews/\n\nhttps://www.welcometoloudcity.com/users/t
 odaynews/\n\nhttps://www.denverstiffs.com/users/todaynews/\n\nhttps://www.
 blazersedge.com/users/todaynews/\n\nhttps://www.thebirdwrites.com/users/to
 daynews/\n\nhttps://www.mavsmoneyball.com/users/todaynews/\n\nhttps://www.
 thedreamshake.com/users/todaynews/\n\nhttps://www.poundingtherock.com/user
 s/todaynews/\n\nhttps://www.grizzlybearblues.com/users/todaynews/\n\nhttps
 ://www.peachtreehoops.com/users/todaynews/\n\nhttps://www.orlandopinstripe
 dpost.com/users/todaynews/\n\nhttps://www.hothothoops.com/users/todaynews/
 \n\nhttps://www.bulletsforever.com/users/todaynews/\n\nhttps://www.atthehi
 ve.com/users/todaynews/\n\nhttps://www.fearthesword.com/users/todaynews/\n
 \nhttps://www.brewhoop.com/users/todaynews/\n\nhttps://www.indycornrows.co
 m/users/todaynews/\n\nhttps://www.detroitbadboys.com/users/todaynews/\n\nh
 ttps://www.blogabull.com/users/todaynews/\n\nhttps://www.raptorshq.com/use
 rs/todaynews/\n\nhttps://www.postingandtoasting.com/users/todaynews/\n\nht
 tps://www.netsdaily.com/users/todaynews/\n\nhttps://www.libertyballers.com
 /users/todaynews/\n\nhttps://www.celticsblog.com/users/todaynews/\n\nhttps
 ://www.bringonthecats.com/users/todaynews/\n\nhttps://www.cowboysrideforfr
 ee.com/users/todaynews/\n\nhttps://www.burntorangenation.com/users/todayne
 ws/\n\nhttps://www.crimsonandcreammachine.com/users/todaynews/\n\nhttps://
 www.ourdailybears.com/users/todaynews/\n\nhttps://www.frogsowar.com/users/
 todaynews/\n\nhttps://www.rockchalktalk.com/users/todaynews/\n\nhttps://ww
 w.smokingmusket.com/users/todaynews/\n\nhttps://www.widerightnattylite.com
 /users/todaynews/\n\nhttps://www.vivathematadors.com/users/todaynews/\n\nh
 ttps://www.addictedtoquack.com/users/todaynews/\n\nhttps://www.blocku.com/
 users/todaynews/\n\nhttps://www.buildingthedam.com/users/todaynews/\n\nhtt
 ps://www.azdesertswarm.com/users/todaynews/\n\nhttps://www.bruinsnation.co
 m/users/todaynews/\n\nhttps://www.californiagoldenblogs.com/users/todaynew
 s/\n\nhttps://www.conquestchronicles.com/users/todaynews/\n\nhttps://www.c
 ougcenter.com/users/todaynews/\n\nhttps://www.pacifictakes.com/users/today
 news/\n\nhttps://www.houseofsparky.com/users/todaynews/\n\nhttps://www.rul
 eoftree.com/users/todaynews/\n\nhttps://www.ralphiereport.com/users/todayn
 ews/\n\nhttps://www.uwdawgpound.com/users/todaynews/\n\nhttps://www.blackh
 eartgoldpants.com/users/todaynews/\n\nhttps://www.btpowerhouse.com/users/t
 odaynews/\n\nhttps://www.cornnation.com/users/todaynews/\n\nhttps://www.bl
 ackshoediaries.com/users/todaynews/\n\nhttps://www.buckys5thquarter.com/us
 ers/todaynews/\n\nhttps://www.hammerandrails.com/users/todaynews/\n\nhttps
 ://www.insidenu.com/users/todaynews/\n\nhttps://www.maizenbrew.com/users/t
 odaynews/\n\nhttps://www.landgrantholyland.com/users/todaynews/\n\nhttps:/
 /www.offtackleempire.com/users/todaynews/\n\nhttps://www.onthebanks.com/us
 ers/todaynews/\n\nhttps://www.testudotimes.com/users/todaynews/\n\nhttps:/
 /www.thechampaignroom.com/users/todaynews/\n\nhttps://www.crimsonquarry.co
 m/users/todaynews/\n\nhttps://www.thedailygopher.com/users/todaynews/\n\nh
 ttps://www.theonlycolors.com/users/todaynews/\n\nhttps://www.mwcconnection
 .com/users/todaynews/\n\nhttps://www.obnug.com/users/todaynews/\n\nhttps:/
 /www.againstallenemies.com/users/todaynews/\n\nhttps://www.collegecrosse.c
 om/users/todaynews/\n\nhttps://www.onefootdown.com/users/todaynews/\n\nhtt
 ps://www.vanquishthefoe.com/users/todaynews/\n\nhttps://www.anonymouseagle
 .com/users/todaynews/\n\nhttps://www.bannersontheparkway.com/users/todayne
 ws/\n\nhttps://www.casualhoya.com/users/todaynews/\n\nhttps://www.rumblein
 thegarden.com/users/todaynews/\n\nhttps://www.vuhoops.com/users/todaynews/
 \n\nhttps://www.backingthepack.com/users/todaynews/\n\nhttps://www.blogger
 sodear.com/users/todaynews/\n\nhttps://www.cardiachill.com/users/todaynews
 /\n\nhttps://www.bcinterruption.com/users/todaynews/\n\nhttps://www.cardch
 ronicle.com/users/todaynews/\n\nhttps://www.dukebasketballreport.com/users
 /todaynews/\n\nhttps://www.fromtherumbleseat.com/users/todaynews/\n\nhttps
 ://www.gobblercountry.com/users/todaynews/\n\nhttps://www.shakinthesouthla
 nd.com/users/todaynews/\n\nhttps://www.stateoftheu.com/users/todaynews/\n\
 nhttps://www.streakingthelawn.com/users/todaynews/\n\nhttps://www.tarheelb
 log.com/users/todaynews/\n\nhttps://www.tomahawknation.com/users/todaynews
 /\n\nhttps://www.nunesmagician.com/users/todaynews/\n\nhttps://www.aseaofb
 lue.com/users/todaynews/\n\nhttps://www.alligatorarmy.com/users/todaynews/
 \n\nhttps://www.anchorofgold.com/users/todaynews/\n\nhttps://www.andtheval
 leyshook.com/users/todaynews/\n\nhttps://www.arkansasfight.com/users/today
 news/\n\nhttps://www.collegeandmagnolia.com/users/todaynews/\n\nhttps://ww
 w.dawgsports.com/users/todaynews/\n\nhttps://www.forwhomthecowbelltolls.co
 m/users/todaynews/\n\nhttps://www.garnetandblackattack.com/users/todaynews
 /\n\nhttps://www.goodbullhunting.com/users/todaynews/\n\nhttps://www.redcu
 prebellion.com/users/todaynews/\n\nhttps://www.rockmnation.com/users/today
 news/\n\nhttps://www.rockytoptalk.com/users/todaynews/\n\nhttps://www.roll
 bamaroll.com/users/todaynews/\n\nhttps://www.teamspeedkills.com/users/toda
 ynews/\n\nhttps://www.bannersociety.com/users/todaynews/\n\nhttps://www.ba
 rkingcarnival.com/users/todaynews/\n\nhttps://www.blackandgoldbanneret.com
 /users/todaynews/\n\nhttps://www.downthedrive.com/users/todaynews/\n\nhttp
 s://www.everydayshouldbesaturday.com/users/todaynews/\n\nhttps://www.footb
 allstudyhall.com/users/todaynews/\n\nhttps://www.thedailystampede.com/user
 s/todaynews/\n\nhttps://www.theuconnblog.com/users/todaynews/\n\nhttps://w
 ww.underdogdynasty.com/users/todaynews/\n\nhttps://www.bloggingthebracket.
 com/users/todaynews/\n\nhttps://www.midmajormadness.com/users/todaynews/\n
 \nhttps://www.ubbullrun.com/users/todaynews/\n\nhttps://www.hustlebelt.com
 /users/todaynews/\n\nhttps://www.slipperstillfits.com/users/todaynews/\n\n
 https://www.minerrush.com/users/todaynews/\n\nhttps://www.theicegarden.com
 /users/todaynews/\n\nhttps://www.sbncollegehockey.com/users/todaynews/\n\n
 https://www.coppernblue.com/users/todaynews/\n\nhttps://www.nucksmisconduc
 t.com/users/todaynews/\n\nhttps://www.matchsticksandgasoline.com/users/tod
 aynews/\n\nhttps://www.knightsonice.com/users/todaynews/\n\nhttps://www.je
 welsfromthecrown.com/users/todaynews/\n\nhttps://www.fiveforhowling.com/us
 ers/todaynews/\n\nhttps://www.fearthefin.com/users/todaynews/\n\nhttps://w
 ww.battleofcali.com/users/todaynews/\n\nhttps://www.anaheimcalling.com/use
 rs/todaynews/\n\nhttps://www.stlouisgametime.com/users/todaynews/\n\nhttps
 ://www.secondcityhockey.com/users/todaynews/\n\nhttps://www.ontheforecheck
 .com/users/todaynews/\n\nhttps://www.milehighhockey.com/users/todaynews/\n
 \nhttps://www.hockeywilderness.com/users/todaynews/\n\nhttps://www.defendi
 ngbigd.com/users/todaynews/\n\nhttps://www.arcticicehockey.com/users/today
 news/\n\nhttps://www.jacketscannon.com/users/todaynews/\n\nhttps://www.pen
 sburgh.com/users/todaynews/\n\nhttps://www.lighthousehockey.com/users/toda
 ynews/\n\nhttps://www.japersrink.com/users/todaynews/\n\nhttps://www.canes
 country.com/users/todaynews/\n\nhttps://www.broadstreethockey.com/users/to
 daynews/\n\nhttps://www.blueshirtbanter.com/users/todaynews/\n\nhttps://ww
 w.allaboutthejersey.com/users/todaynews/\n\nhttps://www.wingingitinmotown.
 com/users/todaynews/\n\nhttps://www.stanleycupofchowder.com/users/todaynew
 s/\n\nhttps://www.silversevensens.com/users/todaynews/\n\nhttps://www.rawc
 harge.com/users/todaynews/\n\nhttps://www.pensionplanpuppets.com/users/tod
 aynews/\n\nhttps://www.litterboxcats.com/users/todaynews/\n\nhttps://www.h
 abseyesontheprize.com/users/todaynews/\n\nhttps://www.diebytheblade.com/us
 ers/todaynews/\n\nhttps://throughitalltogether.sbnation.com/users/todaynew
 s/\n\nhttps://www.starsandstripesfc.com/users/todaynews/\n\nhttps://lionof
 viennasuite.sbnation.com/users/todaynews/\n\nhttps://www.threelionsroar.co
 m/users/todaynews/\n\nhttps://www.nevermanagealone.com/users/todaynews/\n\
 nhttps://www.indomitablecitysoccer.com/users/todaynews/\n\nhttps://www.fmf
 stateofmind.com/users/todaynews/\n\nhttps://www.allforxi.com/users/todayne
 ws/\n\nhttps://weaintgotnohistory.sbnation.com/users/todaynews/\n\nhttps:/
 /thetilehurstend.sbnation.com/users/todaynews/\n\nhttps://theshortfuse.sbn
 ation.com/users/todaynews/\n\nhttps://liverpooloffside.sbnation.com/users/
 todaynews/\n\nhttps://thebusbybabe.sbnation.com/users/todaynews/\n\nhttps:
 //stmarysmusings.sbnation.com/users/todaynews/\n\nhttps://royalbluemersey.
 sbnation.com/users/todaynews/\n\nhttps://rokerreport.sbnation.com/users/to
 daynews/\n\nhttps://fosseposse.sbnation.com/users/todaynews/\n\nhttps://co
 ttagersconfidential.sbnation.com/users/todaynews/\n\nhttps://cominghomenew
 castle.sbnation.com/users/todaynews/\n\nhttps://cartilagefreecaptain.sbnat
 ion.com/users/todaynews/\n\nhttps://bracethehammer.sbnation.com/users/toda
 ynews/\n\nhttps://bitterandblue.sbnation.com/users/todaynews/\n\nhttps://7
 500toholte.sbnation.com/users/todaynews/\n\nhttps://www.jerseydoesntshrink
 .com/users/todaynews/\n\nhttps://www.fearthewall.com/users/todaynews/\n\nh
 ttps://www.bavarianfootballworks.com/users/todaynews/\n\nhttps://www.viola
 nation.com/users/todaynews/\n\nhttps://www.thesirenssong.com/users/todayne
 ws/\n\nhttps://acmilan.theoffside.com/users/todaynews/\n\nhttps://www.serp
 entsofmadonnina.com/users/todaynews/\n\nhttps://www.chiesaditotti.com/user
 s/todaynews/\n\nhttps://www.blackwhitereadallover.com/users/todaynews/\n\n
 https://www.villarrealusa.com/users/todaynews/\n\nhttps://www.managingmadr
 id.com/users/todaynews/\n\nhttps://www.intothecalderon.com/users/todaynews
 /\n\nhttps://www.barcablaugranes.com/users/todaynews/\n\nhttps://www.wakin
 gthered.com/users/todaynews/\n\nhttps://www.twiceacosmo.com/users/todaynew
 s/\n\nhttps://www.themaneland.com/users/todaynews/\n\nhttps://www.thebluet
 estament.com/users/todaynews/\n\nhttps://www.thebentmusket.com/users/today
 news/\n\nhttps://www.stumptownfooty.com/users/todaynews/\n\nhttps://www.so
 underatheart.com/users/todaynews/\n\nhttps://www.rslsoapbox.com/users/toda
 ynews/\n\nhttps://www.onceametro.com/users/todaynews/\n\nhttps://www.mount
 royalsoccer.com/users/todaynews/\n\nhttps://www.massivereport.com/users/to
 daynews/\n\nhttps://www.lagconfidential.com/users/todaynews/\n\nhttps://ww
 w.hudsonriverblue.com/users/todaynews/\n\nhttps://www.hottimeinoldtown.com
 /users/todaynews/\n\nhttps://www.dynamotheory.com/users/todaynews/\n\nhttp
 s://www.eightysixforever.com/users/todaynews/\n\nhttps://www.epluribusloon
 um.com/users/todaynews/\n\nhttps://www.dirtysouthsoccer.com/users/todaynew
 s/\n\nhttps://www.centerlinesoccer.com/users/todaynews/\n\nhttps://www.bur
 gundywave.com/users/todaynews/\n\nhttps://www.blackandredunited.com/users/
 todaynews/\n\nhttps://www.bigdsoccer.com/users/todaynews/\n\nhttps://www.a
 ngelsonparade.com/users/todaynews/\n\nhttps://www.badlefthook.com/users/to
 daynews/\n\nhttps://www.mmamania.com/users/todaynews/\n\nhttps://www.mmafi
 ghting.com/users/todaynews/\n\nhttps://www.fishstripes.com/users/todaynews
 /\n\nhttps://www.cagesideseats.com/users/todaynews/\n\nhttps://www.bloodye
 lbow.com/users/todaynews/\n\nhttps://www.progressiveboink.com/users/todayn
 ews/\n\nhttps://www.outsports.com/users/todaynews/\n\nhttps://blog.sbnatio
 n.com/users/todaynews/\n\nhttps://www.anddownthestretchtheycome.com/users/
 todaynews/\n\nhttps://www.americanninjawarriornation.com/users/todaynews/\
 n\nhttps://www.stridenation.com/users/todaynews/\n\nhttps://www.podiumcafe
 .com/users/todaynews/\n\nhttps://www.futnation.com/users/todaynews/\n\nhtt
 ps://dknation.draftkings.com/users/todaynews/
LOCATION:Venue to be confirmed
END:VEVENT
END:VCALENDAR
